Workbook

Sheet Gomunice
A1: Załącznik nr 1 | I1: Zestawienie: Pozostałe lokalizacje
A3: Lokalizacja: | C3: Gomunice | H3: Wykaz za okres: | J3: =Podsumowanie!I2 -> Grudzień | L3: =Podsumowanie!J2 -> 2025 | P3: Stawki: | Q3: 4.48 | R3: Dostęp do terminali towarowych do 12 h (Dotyczy lokomotywa; wagon/godzinę)
A4: Przewoźnik: | C4: =Podsumowanie!C1 -> 0 | Q4: 13.43 | R4: Dostęp do terminali towarowych powyżej 12 h (Dotyczy lokomotywa; wagon/godzinę)
A5: Kod punktu: | C5: S-011 | Q5: 5.2 | R5: Postój do 12 h i powyżej 12 h (dotyczy lokomotywa/wagon/godzina)
A6: Umowa: | C6: =Podsumowanie!C2 -> 0
E7: ZAZNACZYĆ | I7: Kod usługi: | J7: 018 | L7: 019 | N7: 020
A8: LP | B8: Data i godzina podstawienia/ zajęcia toru (rr-mm-dd gg:mm) | C8: Data i godzina zabrania/ zwolnienia toru (rr-mm-dd gg:mm) | D8: Nr pociągu | E8: Dostęp do terminali | F8: Postój | G8: Ilość lokomotyw / wagonów (szt) | H8: Tor (nr) | I8: Inne | J8: Dostęp do terminali towarowych do 12 h (Dot. lokomotywa; wagon/godzinę) | L8: Dostęp do terminali towarowych powyżej 12 h (Dot. lokomotywa; wagon/godzinę) | N8: Postój do 12 h i powyżej 12 h (dot. lokomotywa; wagon / godzina)
J9: Ilość godz. | K9: Razem | L9: Ilość godz. | M9: Razem | N9: Ilość godz. | O9: Razem
G10: =SUM(G11:G1048576) -> 0 | J10: =SUM(J11:J66) -> 0 | K10: =SUM(K11:K66) -> 0 | L10: =SUM(L11:L66) -> 0 | M10: =SUM(M11:M66) -> 0 | N10: =SUM(N11:N66) -> 0 | O10: =SUM(O11:O66) -> 0
A11: 1 | J11: =ROUND(IF(E11<>0,IF((C11-B11)*24>12,IFERROR(12-E11,12),IFERROR((C11-B11)*24-E11,(C11-B11)*24)),0),4) -> 0 | K11: =ROUND(G11*J11*Q$3,2) -> 0 | L11: =IF(E11<>0,ROUND(IF(E11="x",IF((C11-B11)*24>12,IFERROR(((C11-B11)*24)-12,((C11-B11)*24)-12+J11),0),((C11-B11)*24)-J11),4),0) -> 0 | M11: =ROUND(G11*L11*Q$4,2) -> 0 | N11: =ROUND(IF(F11<>0,(C11-B11)*24,0),4) -> 0 | O11: =ROUND(G11*N11*Q$5,2) -> 0
A12: 2 | J12: =ROUND(IF(E12<>0,IF((C12-B12)*24>12,IFERROR(12-E12,12),IFERROR((C12-B12)*24-E12,(C12-B12)*24)),0),4) -> 0 | K12: =ROUND(G12*J12*Q$3,2) -> 0 | L12: =IF(E12<>0,ROUND(IF(E12="x",IF((C12-B12)*24>12,IFERROR(((C12-B12)*24)-12,((C12-B12)*24)-12+J12),0),((C12-B12)*24)-J12),4),0) -> 0 | M12: =ROUND(G12*L12*Q$4,2) -> 0 | N12: =ROUND(IF(F12<>0,(C12-B12)*24,0),4) -> 0 | O12: =ROUND(G12*N12*Q$5,2) -> 0
A13: 3 | J13: =ROUND(IF(E13<>0,IF((C13-B13)*24>12,IFERROR(12-E13,12),IFERROR((C13-B13)*24-E13,(C13-B13)*24)),0),4) -> 0 | K13: =ROUND(G13*J13*Q$3,2) -> 0 | L13: =IF(E13<>0,ROUND(IF(E13="x",IF((C13-B13)*24>12,IFERROR(((C13-B13)*24)-12,((C13-B13)*24)-12+J13),0),((C13-B13)*24)-J13),4),0) -> 0 | M13: =ROUND(G13*L13*Q$4,2) -> 0 | N13: =ROUND(IF(F13<>0,(C13-B13)*24,0),4) -> 0 | O13: =ROUND(G13*N13*Q$5,2) -> 0
A14: 4 | J14: =ROUND(IF(E14<>0,IF((C14-B14)*24>12,IFERROR(12-E14,12),IFERROR((C14-B14)*24-E14,(C14-B14)*24)),0),4) -> 0 | K14: =ROUND(G14*J14*Q$3,2) -> 0 | L14: =IF(E14<>0,ROUND(IF(E14="x",IF((C14-B14)*24>12,IFERROR(((C14-B14)*24)-12,((C14-B14)*24)-12+J14),0),((C14-B14)*24)-J14),4),0) -> 0 | M14: =ROUND(G14*L14*Q$4,2) -> 0 | N14: =ROUND(IF(F14<>0,(C14-B14)*24,0),4) -> 0 | O14: =ROUND(G14*N14*Q$5,2) -> 0
A15: 5 | J15: =ROUND(IF(E15<>0,IF((C15-B15)*24>12,IFERROR(12-E15,12),IFERROR((C15-B15)*24-E15,(C15-B15)*24)),0),4) -> 0 | K15: =ROUND(G15*J15*Q$3,2) -> 0 | L15: =IF(E15<>0,ROUND(IF(E15="x",IF((C15-B15)*24>12,IFERROR(((C15-B15)*24)-12,((C15-B15)*24)-12+J15),0),((C15-B15)*24)-J15),4),0) -> 0 | M15: =ROUND(G15*L15*Q$4,2) -> 0 | N15: =ROUND(IF(F15<>0,(C15-B15)*24,0),4) -> 0 | O15: =ROUND(G15*N15*Q$5,2) -> 0
A16: 6 | J16: =ROUND(IF(E16<>0,IF((C16-B16)*24>12,IFERROR(12-E16,12),IFERROR((C16-B16)*24-E16,(C16-B16)*24)),0),4) -> 0 | K16: =ROUND(G16*J16*Q$3,2) -> 0 | L16: =IF(E16<>0,ROUND(IF(E16="x",IF((C16-B16)*24>12,IFERROR(((C16-B16)*24)-12,((C16-B16)*24)-12+J16),0),((C16-B16)*24)-J16),4),0) -> 0 | M16: =ROUND(G16*L16*Q$4,2) -> 0 | N16: =ROUND(IF(F16<>0,(C16-B16)*24,0),4) -> 0 | O16: =ROUND(G16*N16*Q$5,2) -> 0
A17: 7 | J17: =ROUND(IF(E17<>0,IF((C17-B17)*24>12,IFERROR(12-E17,12),IFERROR((C17-B17)*24-E17,(C17-B17)*24)),0),4) -> 0 | K17: =ROUND(G17*J17*Q$3,2) -> 0 | L17: =IF(E17<>0,ROUND(IF(E17="x",IF((C17-B17)*24>12,IFERROR(((C17-B17)*24)-12,((C17-B17)*24)-12+J17),0),((C17-B17)*24)-J17),4),0) -> 0 | M17: =ROUND(G17*L17*Q$4,2) -> 0 | N17: =ROUND(IF(F17<>0,(C17-B17)*24,0),4) -> 0 | O17: =ROUND(G17*N17*Q$5,2) -> 0
A18: 8 | J18: =ROUND(IF(E18<>0,IF((C18-B18)*24>12,IFERROR(12-E18,12),IFERROR((C18-B18)*24-E18,(C18-B18)*24)),0),4) -> 0 | K18: =ROUND(G18*J18*Q$3,2) -> 0 | L18: =IF(E18<>0,ROUND(IF(E18="x",IF((C18-B18)*24>12,IFERROR(((C18-B18)*24)-12,((C18-B18)*24)-12+J18),0),((C18-B18)*24)-J18),4),0) -> 0 | M18: =ROUND(G18*L18*Q$4,2) -> 0 | N18: =ROUND(IF(F18<>0,(C18-B18)*24,0),4) -> 0 | O18: =ROUND(G18*N18*Q$5,2) -> 0
A19: 9 | J19: =ROUND(IF(E19<>0,IF((C19-B19)*24>12,IFERROR(12-E19,12),IFERROR((C19-B19)*24-E19,(C19-B19)*24)),0),4) -> 0 | K19: =ROUND(G19*J19*Q$3,2) -> 0 | L19: =IF(E19<>0,ROUND(IF(E19="x",IF((C19-B19)*24>12,IFERROR(((C19-B19)*24)-12,((C19-B19)*24)-12+J19),0),((C19-B19)*24)-J19),4),0) -> 0 | M19: =ROUND(G19*L19*Q$4,2) -> 0 | N19: =ROUND(IF(F19<>0,(C19-B19)*24,0),4) -> 0 | O19: =ROUND(G19*N19*Q$5,2) -> 0
A20: 10 | J20: =ROUND(IF(E20<>0,IF((C20-B20)*24>12,IFERROR(12-E20,12),IFERROR((C20-B20)*24-E20,(C20-B20)*24)),0),4) -> 0 | K20: =ROUND(G20*J20*Q$3,2) -> 0 | L20: =IF(E20<>0,ROUND(IF(E20="x",IF((C20-B20)*24>12,IFERROR(((C20-B20)*24)-12,((C20-B20)*24)-12+J20),0),((C20-B20)*24)-J20),4),0) -> 0 | M20: =ROUND(G20*L20*Q$4,2) -> 0 | N20: =ROUND(IF(F20<>0,(C20-B20)*24,0),4) -> 0 | O20: =ROUND(G20*N20*Q$5,2) -> 0
A21: 11 | J21: =ROUND(IF(E21<>0,IF((C21-B21)*24>12,IFERROR(12-E21,12),IFERROR((C21-B21)*24-E21,(C21-B21)*24)),0),4) -> 0 | K21: =ROUND(G21*J21*Q$3,2) -> 0 | L21: =IF(E21<>0,ROUND(IF(E21="x",IF((C21-B21)*24>12,IFERROR(((C21-B21)*24)-12,((C21-B21)*24)-12+J21),0),((C21-B21)*24)-J21),4),0) -> 0 | M21: =ROUND(G21*L21*Q$4,2) -> 0 | N21: =ROUND(IF(F21<>0,(C21-B21)*24,0),4) -> 0 | O21: =ROUND(G21*N21*Q$5,2) -> 0
A22: 12 | J22: =ROUND(IF(E22<>0,IF((C22-B22)*24>12,IFERROR(12-E22,12),IFERROR((C22-B22)*24-E22,(C22-B22)*24)),0),4) -> 0 | K22: =ROUND(G22*J22*Q$3,2) -> 0 | L22: =IF(E22<>0,ROUND(IF(E22="x",IF((C22-B22)*24>12,IFERROR(((C22-B22)*24)-12,((C22-B22)*24)-12+J22),0),((C22-B22)*24)-J22),4),0) -> 0 | M22: =ROUND(G22*L22*Q$4,2) -> 0 | N22: =ROUND(IF(F22<>0,(C22-B22)*24,0),4) -> 0 | O22: =ROUND(G22*N22*Q$5,2) -> 0
... A60: 50 | J60: =ROUND(IF(E60<>0,IF((C60-B60)*24>12,IFERROR(12-E60,12),IFERROR((C60-B60)*24-E60,(C60-B60)*24)),0),4) -> 0 | K60: =ROUND(G60*J60*Q$3,2) -> 0 | L60: =IF(E60<>0,ROUND(IF(E60="x",IF((C60-B60)*24>12,IFERROR(((C60-B60)*24)-12,((C60-B60)*24)-12+J60),0),((C60-B60)*24)-J60),4),0) -> 0 | M60: =ROUND(G60*L60*Q$4,2) -> 0 | N60: =ROUND(IF(F60<>0,(C60-B60)*24,0),4) -> 0 | O60: =ROUND(G60*N60*Q$5,2) -> 0

Sheet Ozorków
A1: Załącznik nr 1 | I1: Zestawienie: Pozostałe lokalizacje
A3: Lokalizacja: | C3: Ozorków | H3: Wykaz za okres: | J3: =Podsumowanie!I2 -> Grudzień | L3: =Podsumowanie!J2 -> 2025 | P3: Stawki: | Q3: 4.48 | R3: Dostęp do terminali towarowych do 12 h (Dotyczy lokomotywa; wagon/godzinę)
A4: Przewoźnik: | C4: =Podsumowanie!C1 -> 0 | Q4: 13.43 | R4: Dostęp do terminali towarowych powyżej 12 h (Dotyczy lokomotywa; wagon/godzinę)
A5: Kod punktu: | C5: S-012 | Q5: 5.2 | R5: Postój do 12 h i powyżej 12 h (dotyczy lokomotywa/wagon/godzina)
A6: Umowa: | C6: =Podsumowanie!C2 -> 0
E7: ZAZNACZYĆ | I7: Kod usługi: | J7: 018 | L7: 019 | N7: 020
A8: LP | B8: Data i godzina podstawienia/ zajęcia toru (rr-mm-dd gg:mm) | C8: Data i godzina zabrania/ zwolnienia toru (rr-mm-dd gg:mm) | D8: Nr pociągu | E8: Dostęp do terminali | F8: Postój | G8: Ilość lokomotyw / wagonów (szt) | H8: Tor (nr) | I8: Inne | J8: Dostęp do terminali towarowych do 12 h (Dot. lokomotywa; wagon/godzinę) | L8: Dostęp do terminali towarowych powyżej 12 h (Dot. lokomotywa; wagon/godzinę) | N8: Postój do 12 h i powyżej 12 h (dot. lokomotywa; wagon / godzina)
J9: Ilość godz. | K9: Razem | L9: Ilość godz. | M9: Razem | N9: Ilość godz. | O9: Razem
G10: =SUM(G11:G1048576) -> 0 | J10: =SUM(J11:J66) -> 0 | K10: =SUM(K11:K66) -> 0 | L10: =SUM(L11:L66) -> 0 | M10: =SUM(M11:M66) -> 0 | N10: =SUM(N11:N66) -> 0 | O10: =SUM(O11:O66) -> 0
A11: 1 | J11: =ROUND(IF(E11<>0,IF((C11-B11)*24>12,IFERROR(12-E11,12),IFERROR((C11-B11)*24-E11,(C11-B11)*24)),0),4) -> 0 | K11: =ROUND(G11*J11*Q$3,2) -> 0 | L11: =IF(E11<>0,ROUND(IF(E11="x",IF((C11-B11)*24>12,IFERROR(((C11-B11)*24)-12,((C11-B11)*24)-12+J11),0),((C11-B11)*24)-J11),4),0) -> 0 | M11: =ROUND(G11*L11*Q$4,2) -> 0 | N11: =ROUND(IF(F11<>0,(C11-B11)*24,0),4) -> 0 | O11: =ROUND(G11*N11*Q$5,2) -> 0
A12: 2 | J12: =ROUND(IF(E12<>0,IF((C12-B12)*24>12,IFERROR(12-E12,12),IFERROR((C12-B12)*24-E12,(C12-B12)*24)),0),4) -> 0 | K12: =ROUND(G12*J12*Q$3,2) -> 0 | L12: =IF(E12<>0,ROUND(IF(E12="x",IF((C12-B12)*24>12,IFERROR(((C12-B12)*24)-12,((C12-B12)*24)-12+J12),0),((C12-B12)*24)-J12),4),0) -> 0 | M12: =ROUND(G12*L12*Q$4,2) -> 0 | N12: =ROUND(IF(F12<>0,(C12-B12)*24,0),4) -> 0 | O12: =ROUND(G12*N12*Q$5,2) -> 0
A13: 3 | J13: =ROUND(IF(E13<>0,IF((C13-B13)*24>12,IFERROR(12-E13,12),IFERROR((C13-B13)*24-E13,(C13-B13)*24)),0),4) -> 0 | K13: =ROUND(G13*J13*Q$3,2) -> 0 | L13: =IF(E13<>0,ROUND(IF(E13="x",IF((C13-B13)*24>12,IFERROR(((C13-B13)*24)-12,((C13-B13)*24)-12+J13),0),((C13-B13)*24)-J13),4),0) -> 0 | M13: =ROUND(G13*L13*Q$4,2) -> 0 | N13: =ROUND(IF(F13<>0,(C13-B13)*24,0),4) -> 0 | O13: =ROUND(G13*N13*Q$5,2) -> 0
A14: 4 | J14: =ROUND(IF(E14<>0,IF((C14-B14)*24>12,IFERROR(12-E14,12),IFERROR((C14-B14)*24-E14,(C14-B14)*24)),0),4) -> 0 | K14: =ROUND(G14*J14*Q$3,2) -> 0 | L14: =IF(E14<>0,ROUND(IF(E14="x",IF((C14-B14)*24>12,IFERROR(((C14-B14)*24)-12,((C14-B14)*24)-12+J14),0),((C14-B14)*24)-J14),4),0) -> 0 | M14: =ROUND(G14*L14*Q$4,2) -> 0 | N14: =ROUND(IF(F14<>0,(C14-B14)*24,0),4) -> 0 | O14: =ROUND(G14*N14*Q$5,2) -> 0
A15: 5 | J15: =ROUND(IF(E15<>0,IF((C15-B15)*24>12,IFERROR(12-E15,12),IFERROR((C15-B15)*24-E15,(C15-B15)*24)),0),4) -> 0 | K15: =ROUND(G15*J15*Q$3,2) -> 0 | L15: =IF(E15<>0,ROUND(IF(E15="x",IF((C15-B15)*24>12,IFERROR(((C15-B15)*24)-12,((C15-B15)*24)-12+J15),0),((C15-B15)*24)-J15),4),0) -> 0 | M15: =ROUND(G15*L15*Q$4,2) -> 0 | N15: =ROUND(IF(F15<>0,(C15-B15)*24,0),4) -> 0 | O15: =ROUND(G15*N15*Q$5,2) -> 0
A16: 6 | J16: =ROUND(IF(E16<>0,IF((C16-B16)*24>12,IFERROR(12-E16,12),IFERROR((C16-B16)*24-E16,(C16-B16)*24)),0),4) -> 0 | K16: =ROUND(G16*J16*Q$3,2) -> 0 | L16: =IF(E16<>0,ROUND(IF(E16="x",IF((C16-B16)*24>12,IFERROR(((C16-B16)*24)-12,((C16-B16)*24)-12+J16),0),((C16-B16)*24)-J16),4),0) -> 0 | M16: =ROUND(G16*L16*Q$4,2) -> 0 | N16: =ROUND(IF(F16<>0,(C16-B16)*24,0),4) -> 0 | O16: =ROUND(G16*N16*Q$5,2) -> 0
A17: 7 | J17: =ROUND(IF(E17<>0,IF((C17-B17)*24>12,IFERROR(12-E17,12),IFERROR((C17-B17)*24-E17,(C17-B17)*24)),0),4) -> 0 | K17: =ROUND(G17*J17*Q$3,2) -> 0 | L17: =IF(E17<>0,ROUND(IF(E17="x",IF((C17-B17)*24>12,IFERROR(((C17-B17)*24)-12,((C17-B17)*24)-12+J17),0),((C17-B17)*24)-J17),4),0) -> 0 | M17: =ROUND(G17*L17*Q$4,2) -> 0 | N17: =ROUND(IF(F17<>0,(C17-B17)*24,0),4) -> 0 | O17: =ROUND(G17*N17*Q$5,2) -> 0
A18: 8 | J18: =ROUND(IF(E18<>0,IF((C18-B18)*24>12,IFERROR(12-E18,12),IFERROR((C18-B18)*24-E18,(C18-B18)*24)),0),4) -> 0 | K18: =ROUND(G18*J18*Q$3,2) -> 0 | L18: =IF(E18<>0,ROUND(IF(E18="x",IF((C18-B18)*24>12,IFERROR(((C18-B18)*24)-12,((C18-B18)*24)-12+J18),0),((C18-B18)*24)-J18),4),0) -> 0 | M18: =ROUND(G18*L18*Q$4,2) -> 0 | N18: =ROUND(IF(F18<>0,(C18-B18)*24,0),4) -> 0 | O18: =ROUND(G18*N18*Q$5,2) -> 0
A19: 9 | J19: =ROUND(IF(E19<>0,IF((C19-B19)*24>12,IFERROR(12-E19,12),IFERROR((C19-B19)*24-E19,(C19-B19)*24)),0),4) -> 0 | K19: =ROUND(G19*J19*Q$3,2) -> 0 | L19: =IF(E19<>0,ROUND(IF(E19="x",IF((C19-B19)*24>12,IFERROR(((C19-B19)*24)-12,((C19-B19)*24)-12+J19),0),((C19-B19)*24)-J19),4),0) -> 0 | M19: =ROUND(G19*L19*Q$4,2) -> 0 | N19: =ROUND(IF(F19<>0,(C19-B19)*24,0),4) -> 0 | O19: =ROUND(G19*N19*Q$5,2) -> 0
A20: 10 | J20: =ROUND(IF(E20<>0,IF((C20-B20)*24>12,IFERROR(12-E20,12),IFERROR((C20-B20)*24-E20,(C20-B20)*24)),0),4) -> 0 | K20: =ROUND(G20*J20*Q$3,2) -> 0 | L20: =IF(E20<>0,ROUND(IF(E20="x",IF((C20-B20)*24>12,IFERROR(((C20-B20)*24)-12,((C20-B20)*24)-12+J20),0),((C20-B20)*24)-J20),4),0) -> 0 | M20: =ROUND(G20*L20*Q$4,2) -> 0 | N20: =ROUND(IF(F20<>0,(C20-B20)*24,0),4) -> 0 | O20: =ROUND(G20*N20*Q$5,2) -> 0
A21: 11 | J21: =ROUND(IF(E21<>0,IF((C21-B21)*24>12,IFERROR(12-E21,12),IFERROR((C21-B21)*24-E21,(C21-B21)*24)),0),4) -> 0 | K21: =ROUND(G21*J21*Q$3,2) -> 0 | L21: =IF(E21<>0,ROUND(IF(E21="x",IF((C21-B21)*24>12,IFERROR(((C21-B21)*24)-12,((C21-B21)*24)-12+J21),0),((C21-B21)*24)-J21),4),0) -> 0 | M21: =ROUND(G21*L21*Q$4,2) -> 0 | N21: =ROUND(IF(F21<>0,(C21-B21)*24,0),4) -> 0 | O21: =ROUND(G21*N21*Q$5,2) -> 0
A22: 12 | J22: =ROUND(IF(E22<>0,IF((C22-B22)*24>12,IFERROR(12-E22,12),IFERROR((C22-B22)*24-E22,(C22-B22)*24)),0),4) -> 0 | K22: =ROUND(G22*J22*Q$3,2) -> 0 | L22: =IF(E22<>0,ROUND(IF(E22="x",IF((C22-B22)*24>12,IFERROR(((C22-B22)*24)-12,((C22-B22)*24)-12+J22),0),((C22-B22)*24)-J22),4),0) -> 0 | M22: =ROUND(G22*L22*Q$4,2) -> 0 | N22: =ROUND(IF(F22<>0,(C22-B22)*24,0),4) -> 0 | O22: =ROUND(G22*N22*Q$5,2) -> 0
... A60: 50 | J60: =ROUND(IF(E60<>0,IF((C60-B60)*24>12,IFERROR(12-E60,12),IFERROR((C60-B60)*24-E60,(C60-B60)*24)),0),4) -> 0 | K60: =ROUND(G60*J60*Q$3,2) -> 0 | L60: =IF(E60<>0,ROUND(IF(E60="x",IF((C60-B60)*24>12,IFERROR(((C60-B60)*24)-12,((C60-B60)*24)-12+J60),0),((C60-B60)*24)-J60),4),0) -> 0 | M60: =ROUND(G60*L60*Q$4,2) -> 0 | N60: =ROUND(IF(F60<>0,(C60-B60)*24,0),4) -> 0 | O60: =ROUND(G60*N60*Q$5,2) -> 0

Sheet Pabianice
A1: Załącznik nr 1 | I1: Zestawienie: Pozostałe lokalizacje
A3: Lokalizacja: | C3: Pabianice | H3: Wykaz za okres: | J3: =Podsumowanie!I2 -> Grudzień | L3: =Podsumowanie!J2 -> 2025 | P3: Stawki: | Q3: 4.48 | R3: Dostęp do terminali towarowych do 12 h (Dotyczy lokomotywa; wagon/godzinę)
A4: Przewoźnik: | C4: =Podsumowanie!C1 -> 0 | Q4: 13.43 | R4: Dostęp do terminali towarowych powyżej 12 h (Dotyczy lokomotywa; wagon/godzinę)
A5: Kod punktu: | C5: S-014 | Q5: 5.2 | R5: Postój do 12 h i powyżej 12 h (dotyczy lokomotywa/wagon/godzina)
A6: Umowa: | C6: =Podsumowanie!C2 -> 0
E7: ZAZNACZYĆ | I7: Kod usługi: | J7: 018 | L7: 019 | N7: 020
A8: LP | B8: Data i godzina podstawienia/ zajęcia toru (rr-mm-dd gg:mm) | C8: Data i godzina zabrania/ zwolnienia toru (rr-mm-dd gg:mm) | D8: Nr pociągu | E8: Dostęp do terminali | F8: Postój | G8: Ilość lokomotyw / wagonów (szt) | H8: Tor (nr) | I8: Inne | J8: Dostęp do terminali towarowych do 12 h (Dot. lokomotywa; wagon/godzinę) | L8: Dostęp do terminali towarowych powyżej 12 h (Dot. lokomotywa; wagon/godzinę) | N8: Postój do 12 h i powyżej 12 h (dot. lokomotywa; wagon / godzina)
J9: Ilość godz. | K9: Razem | L9: Ilość godz. | M9: Razem | N9: Ilość godz. | O9: Razem
G10: =SUM(G11:G1048576) -> 0 | J10: =SUM(J11:J66) -> 0 | K10: =SUM(K11:K66) -> 0 | L10: =SUM(L11:L66) -> 0 | M10: =SUM(M11:M66) -> 0 | N10: =SUM(N11:N66) -> 0 | O10: =SUM(O11:O66) -> 0
A11: 1 | J11: =ROUND(IF(E11<>0,IF((C11-B11)*24>12,IFERROR(12-E11,12),IFERROR((C11-B11)*24-E11,(C11-B11)*24)),0),4) -> 0 | K11: =ROUND(G11*J11*Q$3,2) -> 0 | L11: =IF(E11<>0,ROUND(IF(E11="x",IF((C11-B11)*24>12,IFERROR(((C11-B11)*24)-12,((C11-B11)*24)-12+J11),0),((C11-B11)*24)-J11),4),0) -> 0 | M11: =ROUND(G11*L11*Q$4,2) -> 0 | N11: =ROUND(IF(F11<>0,(C11-B11)*24,0),4) -> 0 | O11: =ROUND(G11*N11*Q$5,2) -> 0
A12: 2 | J12: =ROUND(IF(E12<>0,IF((C12-B12)*24>12,IFERROR(12-E12,12),IFERROR((C12-B12)*24-E12,(C12-B12)*24)),0),4) -> 0 | K12: =ROUND(G12*J12*Q$3,2) -> 0 | L12: =IF(E12<>0,ROUND(IF(E12="x",IF((C12-B12)*24>12,IFERROR(((C12-B12)*24)-12,((C12-B12)*24)-12+J12),0),((C12-B12)*24)-J12),4),0) -> 0 | M12: =ROUND(G12*L12*Q$4,2) -> 0 | N12: =ROUND(IF(F12<>0,(C12-B12)*24,0),4) -> 0 | O12: =ROUND(G12*N12*Q$5,2) -> 0
A13: 3 | J13: =ROUND(IF(E13<>0,IF((C13-B13)*24>12,IFERROR(12-E13,12),IFERROR((C13-B13)*24-E13,(C13-B13)*24)),0),4) -> 0 | K13: =ROUND(G13*J13*Q$3,2) -> 0 | L13: =IF(E13<>0,ROUND(IF(E13="x",IF((C13-B13)*24>12,IFERROR(((C13-B13)*24)-12,((C13-B13)*24)-12+J13),0),((C13-B13)*24)-J13),4),0) -> 0 | M13: =ROUND(G13*L13*Q$4,2) -> 0 | N13: =ROUND(IF(F13<>0,(C13-B13)*24,0),4) -> 0 | O13: =ROUND(G13*N13*Q$5,2) -> 0
A14: 4 | J14: =ROUND(IF(E14<>0,IF((C14-B14)*24>12,IFERROR(12-E14,12),IFERROR((C14-B14)*24-E14,(C14-B14)*24)),0),4) -> 0 | K14: =ROUND(G14*J14*Q$3,2) -> 0 | L14: =IF(E14<>0,ROUND(IF(E14="x",IF((C14-B14)*24>12,IFERROR(((C14-B14)*24)-12,((C14-B14)*24)-12+J14),0),((C14-B14)*24)-J14),4),0) -> 0 | M14: =ROUND(G14*L14*Q$4,2) -> 0 | N14: =ROUND(IF(F14<>0,(C14-B14)*24,0),4) -> 0 | O14: =ROUND(G14*N14*Q$5,2) -> 0
A15: 5 | J15: =ROUND(IF(E15<>0,IF((C15-B15)*24>12,IFERROR(12-E15,12),IFERROR((C15-B15)*24-E15,(C15-B15)*24)),0),4) -> 0 | K15: =ROUND(G15*J15*Q$3,2) -> 0 | L15: =IF(E15<>0,ROUND(IF(E15="x",IF((C15-B15)*24>12,IFERROR(((C15-B15)*24)-12,((C15-B15)*24)-12+J15),0),((C15-B15)*24)-J15),4),0) -> 0 | M15: =ROUND(G15*L15*Q$4,2) -> 0 | N15: =ROUND(IF(F15<>0,(C15-B15)*24,0),4) -> 0 | O15: =ROUND(G15*N15*Q$5,2) -> 0
A16: 6 | J16: =ROUND(IF(E16<>0,IF((C16-B16)*24>12,IFERROR(12-E16,12),IFERROR((C16-B16)*24-E16,(C16-B16)*24)),0),4) -> 0 | K16: =ROUND(G16*J16*Q$3,2) -> 0 | L16: =IF(E16<>0,ROUND(IF(E16="x",IF((C16-B16)*24>12,IFERROR(((C16-B16)*24)-12,((C16-B16)*24)-12+J16),0),((C16-B16)*24)-J16),4),0) -> 0 | M16: =ROUND(G16*L16*Q$4,2) -> 0 | N16: =ROUND(IF(F16<>0,(C16-B16)*24,0),4) -> 0 | O16: =ROUND(G16*N16*Q$5,2) -> 0
A17: 7 | J17: =ROUND(IF(E17<>0,IF((C17-B17)*24>12,IFERROR(12-E17,12),IFERROR((C17-B17)*24-E17,(C17-B17)*24)),0),4) -> 0 | K17: =ROUND(G17*J17*Q$3,2) -> 0 | L17: =IF(E17<>0,ROUND(IF(E17="x",IF((C17-B17)*24>12,IFERROR(((C17-B17)*24)-12,((C17-B17)*24)-12+J17),0),((C17-B17)*24)-J17),4),0) -> 0 | M17: =ROUND(G17*L17*Q$4,2) -> 0 | N17: =ROUND(IF(F17<>0,(C17-B17)*24,0),4) -> 0 | O17: =ROUND(G17*N17*Q$5,2) -> 0
A18: 8 | J18: =ROUND(IF(E18<>0,IF((C18-B18)*24>12,IFERROR(12-E18,12),IFERROR((C18-B18)*24-E18,(C18-B18)*24)),0),4) -> 0 | K18: =ROUND(G18*J18*Q$3,2) -> 0 | L18: =IF(E18<>0,ROUND(IF(E18="x",IF((C18-B18)*24>12,IFERROR(((C18-B18)*24)-12,((C18-B18)*24)-12+J18),0),((C18-B18)*24)-J18),4),0) -> 0 | M18: =ROUND(G18*L18*Q$4,2) -> 0 | N18: =ROUND(IF(F18<>0,(C18-B18)*24,0),4) -> 0 | O18: =ROUND(G18*N18*Q$5,2) -> 0
A19: 9 | J19: =ROUND(IF(E19<>0,IF((C19-B19)*24>12,IFERROR(12-E19,12),IFERROR((C19-B19)*24-E19,(C19-B19)*24)),0),4) -> 0 | K19: =ROUND(G19*J19*Q$3,2) -> 0 | L19: =IF(E19<>0,ROUND(IF(E19="x",IF((C19-B19)*24>12,IFERROR(((C19-B19)*24)-12,((C19-B19)*24)-12+J19),0),((C19-B19)*24)-J19),4),0) -> 0 | M19: =ROUND(G19*L19*Q$4,2) -> 0 | N19: =ROUND(IF(F19<>0,(C19-B19)*24,0),4) -> 0 | O19: =ROUND(G19*N19*Q$5,2) -> 0
A20: 10 | J20: =ROUND(IF(E20<>0,IF((C20-B20)*24>12,IFERROR(12-E20,12),IFERROR((C20-B20)*24-E20,(C20-B20)*24)),0),4) -> 0 | K20: =ROUND(G20*J20*Q$3,2) -> 0 | L20: =IF(E20<>0,ROUND(IF(E20="x",IF((C20-B20)*24>12,IFERROR(((C20-B20)*24)-12,((C20-B20)*24)-12+J20),0),((C20-B20)*24)-J20),4),0) -> 0 | M20: =ROUND(G20*L20*Q$4,2) -> 0 | N20: =ROUND(IF(F20<>0,(C20-B20)*24,0),4) -> 0 | O20: =ROUND(G20*N20*Q$5,2) -> 0
A21: 11 | J21: =ROUND(IF(E21<>0,IF((C21-B21)*24>12,IFERROR(12-E21,12),IFERROR((C21-B21)*24-E21,(C21-B21)*24)),0),4) -> 0 | K21: =ROUND(G21*J21*Q$3,2) -> 0 | L21: =IF(E21<>0,ROUND(IF(E21="x",IF((C21-B21)*24>12,IFERROR(((C21-B21)*24)-12,((C21-B21)*24)-12+J21),0),((C21-B21)*24)-J21),4),0) -> 0 | M21: =ROUND(G21*L21*Q$4,2) -> 0 | N21: =ROUND(IF(F21<>0,(C21-B21)*24,0),4) -> 0 | O21: =ROUND(G21*N21*Q$5,2) -> 0
A22: 12 | J22: =ROUND(IF(E22<>0,IF((C22-B22)*24>12,IFERROR(12-E22,12),IFERROR((C22-B22)*24-E22,(C22-B22)*24)),0),4) -> 0 | K22: =ROUND(G22*J22*Q$3,2) -> 0 | L22: =IF(E22<>0,ROUND(IF(E22="x",IF((C22-B22)*24>12,IFERROR(((C22-B22)*24)-12,((C22-B22)*24)-12+J22),0),((C22-B22)*24)-J22),4),0) -> 0 | M22: =ROUND(G22*L22*Q$4,2) -> 0 | N22: =ROUND(IF(F22<>0,(C22-B22)*24,0),4) -> 0 | O22: =ROUND(G22*N22*Q$5,2) -> 0
... A60: 50 | J60: =ROUND(IF(E60<>0,IF((C60-B60)*24>12,IFERROR(12-E60,12),IFERROR((C60-B60)*24-E60,(C60-B60)*24)),0),4) -> 0 | K60: =ROUND(G60*J60*Q$3,2) -> 0 | L60: =IF(E60<>0,ROUND(IF(E60="x",IF((C60-B60)*24>12,IFERROR(((C60-B60)*24)-12,((C60-B60)*24)-12+J60),0),((C60-B60)*24)-J60),4),0) -> 0 | M60: =ROUND(G60*L60*Q$4,2) -> 0 | N60: =ROUND(IF(F60<>0,(C60-B60)*24,0),4) -> 0 | O60: =ROUND(G60*N60*Q$5,2) -> 0

Sheet Piotrków Trybunalski
A1: Załącznik nr 1 | I1: Zestawienie: Pozostałe lokalizacje
A3: Lokalizacja: | C3: Piotrków Trybunalski | H3: Wykaz za okres: | J3: =Podsumowanie!I2 -> Grudzień | L3: =Podsumowanie!J2 -> 2025 | P3: Stawki: | Q3: 4.48 | R3: Dostęp do terminali towarowych do 12 h (Dotyczy lokomotywa; wagon/godzinę)
A4: Przewoźnik: | C4: =Podsumowanie!C1 -> 0 | Q4: 13.43 | R4: Dostęp do terminali towarowych powyżej 12 h (Dotyczy lokomotywa; wagon/godzinę)
A5: Kod punktu: | C5: S-015 | Q5: 5.2 | R5: Postój do 12 h i powyżej 12 h (dotyczy lokomotywa/wagon/godzina)
A6: Umowa: | C6: =Podsumowanie!C2 -> 0
E7: ZAZNACZYĆ | I7: Kod usługi: | J7: 018 | L7: 019 | N7: 020
A8: LP | B8: Data i godzina podstawienia/ zajęcia toru (rr-mm-dd gg:mm) | C8: Data i godzina zabrania/ zwolnienia toru (rr-mm-dd gg:mm) | D8: Nr pociągu | E8: Dostęp do terminali | F8: Postój | G8: Ilość lokomotyw / wagonów (szt) | H8: Tor (nr) | I8: Inne | J8: Dostęp do terminali towarowych do 12 h (Dot. lokomotywa; wagon/godzinę) | L8: Dostęp do terminali towarowych powyżej 12 h (Dot. lokomotywa; wagon/godzinę) | N8: Postój do 12 h i powyżej 12 h (dot. lokomotywa; wagon / godzina)
J9: Ilość godz. | K9: Razem | L9: Ilość godz. | M9: Razem | N9: Ilość godz. | O9: Razem
G10: =SUM(G11:G1048576) -> 0 | J10: =SUM(J11:J66) -> 0 | K10: =SUM(K11:K66) -> 0 | L10: =SUM(L11:L66) -> 0 | M10: =SUM(M11:M66) -> 0 | N10: =SUM(N11:N66) -> 0 | O10: =SUM(O11:O66) -> 0
A11: 1 | J11: =ROUND(IF(E11<>0,IF((C11-B11)*24>12,IFERROR(12-E11,12),IFERROR((C11-B11)*24-E11,(C11-B11)*24)),0),4) -> 0 | K11: =ROUND(G11*J11*Q$3,2) -> 0 | L11: =IF(E11<>0,ROUND(IF(E11="x",IF((C11-B11)*24>12,IFERROR(((C11-B11)*24)-12,((C11-B11)*24)-12+J11),0),((C11-B11)*24)-J11),4),0) -> 0 | M11: =ROUND(G11*L11*Q$4,2) -> 0 | N11: =ROUND(IF(F11<>0,(C11-B11)*24,0),4) -> 0 | O11: =ROUND(G11*N11*Q$5,2) -> 0
A12: 2 | J12: =ROUND(IF(E12<>0,IF((C12-B12)*24>12,IFERROR(12-E12,12),IFERROR((C12-B12)*24-E12,(C12-B12)*24)),0),4) -> 0 | K12: =ROUND(G12*J12*Q$3,2) -> 0 | L12: =IF(E12<>0,ROUND(IF(E12="x",IF((C12-B12)*24>12,IFERROR(((C12-B12)*24)-12,((C12-B12)*24)-12+J12),0),((C12-B12)*24)-J12),4),0) -> 0 | M12: =ROUND(G12*L12*Q$4,2) -> 0 | N12: =ROUND(IF(F12<>0,(C12-B12)*24,0),4) -> 0 | O12: =ROUND(G12*N12*Q$5,2) -> 0
A13: 3 | J13: =ROUND(IF(E13<>0,IF((C13-B13)*24>12,IFERROR(12-E13,12),IFERROR((C13-B13)*24-E13,(C13-B13)*24)),0),4) -> 0 | K13: =ROUND(G13*J13*Q$3,2) -> 0 | L13: =IF(E13<>0,ROUND(IF(E13="x",IF((C13-B13)*24>12,IFERROR(((C13-B13)*24)-12,((C13-B13)*24)-12+J13),0),((C13-B13)*24)-J13),4),0) -> 0 | M13: =ROUND(G13*L13*Q$4,2) -> 0 | N13: =ROUND(IF(F13<>0,(C13-B13)*24,0),4) -> 0 | O13: =ROUND(G13*N13*Q$5,2) -> 0
A14: 4 | J14: =ROUND(IF(E14<>0,IF((C14-B14)*24>12,IFERROR(12-E14,12),IFERROR((C14-B14)*24-E14,(C14-B14)*24)),0),4) -> 0 | K14: =ROUND(G14*J14*Q$3,2) -> 0 | L14: =IF(E14<>0,ROUND(IF(E14="x",IF((C14-B14)*24>12,IFERROR(((C14-B14)*24)-12,((C14-B14)*24)-12+J14),0),((C14-B14)*24)-J14),4),0) -> 0 | M14: =ROUND(G14*L14*Q$4,2) -> 0 | N14: =ROUND(IF(F14<>0,(C14-B14)*24,0),4) -> 0 | O14: =ROUND(G14*N14*Q$5,2) -> 0
A15: 5 | J15: =ROUND(IF(E15<>0,IF((C15-B15)*24>12,IFERROR(12-E15,12),IFERROR((C15-B15)*24-E15,(C15-B15)*24)),0),4) -> 0 | K15: =ROUND(G15*J15*Q$3,2) -> 0 | L15: =IF(E15<>0,ROUND(IF(E15="x",IF((C15-B15)*24>12,IFERROR(((C15-B15)*24)-12,((C15-B15)*24)-12+J15),0),((C15-B15)*24)-J15),4),0) -> 0 | M15: =ROUND(G15*L15*Q$4,2) -> 0 | N15: =ROUND(IF(F15<>0,(C15-B15)*24,0),4) -> 0 | O15: =ROUND(G15*N15*Q$5,2) -> 0
A16: 6 | J16: =ROUND(IF(E16<>0,IF((C16-B16)*24>12,IFERROR(12-E16,12),IFERROR((C16-B16)*24-E16,(C16-B16)*24)),0),4) -> 0 | K16: =ROUND(G16*J16*Q$3,2) -> 0 | L16: =IF(E16<>0,ROUND(IF(E16="x",IF((C16-B16)*24>12,IFERROR(((C16-B16)*24)-12,((C16-B16)*24)-12+J16),0),((C16-B16)*24)-J16),4),0) -> 0 | M16: =ROUND(G16*L16*Q$4,2) -> 0 | N16: =ROUND(IF(F16<>0,(C16-B16)*24,0),4) -> 0 | O16: =ROUND(G16*N16*Q$5,2) -> 0
A17: 7 | J17: =ROUND(IF(E17<>0,IF((C17-B17)*24>12,IFERROR(12-E17,12),IFERROR((C17-B17)*24-E17,(C17-B17)*24)),0),4) -> 0 | K17: =ROUND(G17*J17*Q$3,2) -> 0 | L17: =IF(E17<>0,ROUND(IF(E17="x",IF((C17-B17)*24>12,IFERROR(((C17-B17)*24)-12,((C17-B17)*24)-12+J17),0),((C17-B17)*24)-J17),4),0) -> 0 | M17: =ROUND(G17*L17*Q$4,2) -> 0 | N17: =ROUND(IF(F17<>0,(C17-B17)*24,0),4) -> 0 | O17: =ROUND(G17*N17*Q$5,2) -> 0
A18: 8 | J18: =ROUND(IF(E18<>0,IF((C18-B18)*24>12,IFERROR(12-E18,12),IFERROR((C18-B18)*24-E18,(C18-B18)*24)),0),4) -> 0 | K18: =ROUND(G18*J18*Q$3,2) -> 0 | L18: =IF(E18<>0,ROUND(IF(E18="x",IF((C18-B18)*24>12,IFERROR(((C18-B18)*24)-12,((C18-B18)*24)-12+J18),0),((C18-B18)*24)-J18),4),0) -> 0 | M18: =ROUND(G18*L18*Q$4,2) -> 0 | N18: =ROUND(IF(F18<>0,(C18-B18)*24,0),4) -> 0 | O18: =ROUND(G18*N18*Q$5,2) -> 0
A19: 9 | J19: =ROUND(IF(E19<>0,IF((C19-B19)*24>12,IFERROR(12-E19,12),IFERROR((C19-B19)*24-E19,(C19-B19)*24)),0),4) -> 0 | K19: =ROUND(G19*J19*Q$3,2) -> 0 | L19: =IF(E19<>0,ROUND(IF(E19="x",IF((C19-B19)*24>12,IFERROR(((C19-B19)*24)-12,((C19-B19)*24)-12+J19),0),((C19-B19)*24)-J19),4),0) -> 0 | M19: =ROUND(G19*L19*Q$4,2) -> 0 | N19: =ROUND(IF(F19<>0,(C19-B19)*24,0),4) -> 0 | O19: =ROUND(G19*N19*Q$5,2) -> 0
A20: 10 | J20: =ROUND(IF(E20<>0,IF((C20-B20)*24>12,IFERROR(12-E20,12),IFERROR((C20-B20)*24-E20,(C20-B20)*24)),0),4) -> 0 | K20: =ROUND(G20*J20*Q$3,2) -> 0 | L20: =IF(E20<>0,ROUND(IF(E20="x",IF((C20-B20)*24>12,IFERROR(((C20-B20)*24)-12,((C20-B20)*24)-12+J20),0),((C20-B20)*24)-J20),4),0) -> 0 | M20: =ROUND(G20*L20*Q$4,2) -> 0 | N20: =ROUND(IF(F20<>0,(C20-B20)*24,0),4) -> 0 | O20: =ROUND(G20*N20*Q$5,2) -> 0
A21: 11 | J21: =ROUND(IF(E21<>0,IF((C21-B21)*24>12,IFERROR(12-E21,12),IFERROR((C21-B21)*24-E21,(C21-B21)*24)),0),4) -> 0 | K21: =ROUND(G21*J21*Q$3,2) -> 0 | L21: =IF(E21<>0,ROUND(IF(E21="x",IF((C21-B21)*24>12,IFERROR(((C21-B21)*24)-12,((C21-B21)*24)-12+J21),0),((C21-B21)*24)-J21),4),0) -> 0 | M21: =ROUND(G21*L21*Q$4,2) -> 0 | N21: =ROUND(IF(F21<>0,(C21-B21)*24,0),4) -> 0 | O21: =ROUND(G21*N21*Q$5,2) -> 0
A22: 12 | J22: =ROUND(IF(E22<>0,IF((C22-B22)*24>12,IFERROR(12-E22,12),IFERROR((C22-B22)*24-E22,(C22-B22)*24)),0),4) -> 0 | K22: =ROUND(G22*J22*Q$3,2) -> 0 | L22: =IF(E22<>0,ROUND(IF(E22="x",IF((C22-B22)*24>12,IFERROR(((C22-B22)*24)-12,((C22-B22)*24)-12+J22),0),((C22-B22)*24)-J22),4),0) -> 0 | M22: =ROUND(G22*L22*Q$4,2) -> 0 | N22: =ROUND(IF(F22<>0,(C22-B22)*24,0),4) -> 0 | O22: =ROUND(G22*N22*Q$5,2) -> 0
... A60: 50 | J60: =ROUND(IF(E60<>0,IF((C60-B60)*24>12,IFERROR(12-E60,12),IFERROR((C60-B60)*24-E60,(C60-B60)*24)),0),4) -> 0 | K60: =ROUND(G60*J60*Q$3,2) -> 0 | L60: =IF(E60<>0,ROUND(IF(E60="x",IF((C60-B60)*24>12,IFERROR(((C60-B60)*24)-12,((C60-B60)*24)-12+J60),0),((C60-B60)*24)-J60),4),0) -> 0 | M60: =ROUND(G60*L60*Q$4,2) -> 0 | N60: =ROUND(IF(F60<>0,(C60-B60)*24,0),4) -> 0 | O60: =ROUND(G60*N60*Q$5,2) -> 0

Sheet Tomaszów Mazowiecki
A1: Załącznik nr 1 | I1: Zestawienie: Pozostałe lokalizacje
A3: Lokalizacja: | C3: Tomaszów Mazowiecki | H3: Wykaz za okres: | J3: =Podsumowanie!I2 -> Grudzień | L3: =Podsumowanie!J2 -> 2025 | P3: Stawki: | Q3: 4.48 | R3: Dostęp do terminali towarowych do 12 h (Dotyczy lokomotywa; wagon/godzinę)
A4: Przewoźnik: | C4: =Podsumowanie!C1 -> 0 | Q4: 13.43 | R4: Dostęp do terminali towarowych powyżej 12 h (Dotyczy lokomotywa; wagon/godzinę)
A5: Kod punktu: | C5: S-016 | Q5: 5.2 | R5: Postój do 12 h i powyżej 12 h (dotyczy lokomotywa/wagon/godzina)
A6: Umowa: | C6: =Podsumowanie!C2 -> 0
E7: ZAZNACZYĆ | I7: Kod usługi: | J7: 018 | L7: 019 | N7: 020
A8: LP | B8: Data i godzina podstawienia/ zajęcia toru (rr-mm-dd gg:mm) | C8: Data i godzina zabrania/ zwolnienia toru (rr-mm-dd gg:mm) | D8: Nr pociągu | E8: Dostęp do terminali | F8: Postój | G8: Ilość lokomotyw / wagonów (szt) | H8: Tor (nr) | I8: Inne | J8: Dostęp do terminali towarowych do 12 h (Dot. lokomotywa; wagon/godzinę) | L8: Dostęp do terminali towarowych powyżej 12 h (Dot. lokomotywa; wagon/godzinę) | N8: Postój do 12 h i powyżej 12 h (dot. lokomotywa; wagon / godzina)
J9: Ilość godz. | K9: Razem | L9: Ilość godz. | M9: Razem | N9: Ilość godz. | O9: Razem
G10: =SUM(G11:G1048576) -> 0 | J10: =SUM(J11:J66) -> 0 | K10: =SUM(K11:K66) -> 0 | L10: =SUM(L11:L66) -> 0 | M10: =SUM(M11:M66) -> 0 | N10: =SUM(N11:N66) -> 0 | O10: =SUM(O11:O66) -> 0
A11: 1 | J11: =ROUND(IF(E11<>0,IF((C11-B11)*24>12,IFERROR(12-E11,12),IFERROR((C11-B11)*24-E11,(C11-B11)*24)),0),4) -> 0 | K11: =ROUND(G11*J11*Q$3,2) -> 0 | L11: =IF(E11<>0,ROUND(IF(E11="x",IF((C11-B11)*24>12,IFERROR(((C11-B11)*24)-12,((C11-B11)*24)-12+J11),0),((C11-B11)*24)-J11),4),0) -> 0 | M11: =ROUND(G11*L11*Q$4,2) -> 0 | N11: =ROUND(IF(F11<>0,(C11-B11)*24,0),4) -> 0 | O11: =ROUND(G11*N11*Q$5,2) -> 0
A12: 2 | J12: =ROUND(IF(E12<>0,IF((C12-B12)*24>12,IFERROR(12-E12,12),IFERROR((C12-B12)*24-E12,(C12-B12)*24)),0),4) -> 0 | K12: =ROUND(G12*J12*Q$3,2) -> 0 | L12: =IF(E12<>0,ROUND(IF(E12="x",IF((C12-B12)*24>12,IFERROR(((C12-B12)*24)-12,((C12-B12)*24)-12+J12),0),((C12-B12)*24)-J12),4),0) -> 0 | M12: =ROUND(G12*L12*Q$4,2) -> 0 | N12: =ROUND(IF(F12<>0,(C12-B12)*24,0),4) -> 0 | O12: =ROUND(G12*N12*Q$5,2) -> 0
A13: 3 | J13: =ROUND(IF(E13<>0,IF((C13-B13)*24>12,IFERROR(12-E13,12),IFERROR((C13-B13)*24-E13,(C13-B13)*24)),0),4) -> 0 | K13: =ROUND(G13*J13*Q$3,2) -> 0 | L13: =IF(E13<>0,ROUND(IF(E13="x",IF((C13-B13)*24>12,IFERROR(((C13-B13)*24)-12,((C13-B13)*24)-12+J13),0),((C13-B13)*24)-J13),4),0) -> 0 | M13: =ROUND(G13*L13*Q$4,2) -> 0 | N13: =ROUND(IF(F13<>0,(C13-B13)*24,0),4) -> 0 | O13: =ROUND(G13*N13*Q$5,2) -> 0
A14: 4 | J14: =ROUND(IF(E14<>0,IF((C14-B14)*24>12,IFERROR(12-E14,12),IFERROR((C14-B14)*24-E14,(C14-B14)*24)),0),4) -> 0 | K14: =ROUND(G14*J14*Q$3,2) -> 0 | L14: =IF(E14<>0,ROUND(IF(E14="x",IF((C14-B14)*24>12,IFERROR(((C14-B14)*24)-12,((C14-B14)*24)-12+J14),0),((C14-B14)*24)-J14),4),0) -> 0 | M14: =ROUND(G14*L14*Q$4,2) -> 0 | N14: =ROUND(IF(F14<>0,(C14-B14)*24,0),4) -> 0 | O14: =ROUND(G14*N14*Q$5,2) -> 0
A15: 5 | J15: =ROUND(IF(E15<>0,IF((C15-B15)*24>12,IFERROR(12-E15,12),IFERROR((C15-B15)*24-E15,(C15-B15)*24)),0),4) -> 0 | K15: =ROUND(G15*J15*Q$3,2) -> 0 | L15: =IF(E15<>0,ROUND(IF(E15="x",IF((C15-B15)*24>12,IFERROR(((C15-B15)*24)-12,((C15-B15)*24)-12+J15),0),((C15-B15)*24)-J15),4),0) -> 0 | M15: =ROUND(G15*L15*Q$4,2) -> 0 | N15: =ROUND(IF(F15<>0,(C15-B15)*24,0),4) -> 0 | O15: =ROUND(G15*N15*Q$5,2) -> 0
A16: 6 | J16: =ROUND(IF(E16<>0,IF((C16-B16)*24>12,IFERROR(12-E16,12),IFERROR((C16-B16)*24-E16,(C16-B16)*24)),0),4) -> 0 | K16: =ROUND(G16*J16*Q$3,2) -> 0 | L16: =IF(E16<>0,ROUND(IF(E16="x",IF((C16-B16)*24>12,IFERROR(((C16-B16)*24)-12,((C16-B16)*24)-12+J16),0),((C16-B16)*24)-J16),4),0) -> 0 | M16: =ROUND(G16*L16*Q$4,2) -> 0 | N16: =ROUND(IF(F16<>0,(C16-B16)*24,0),4) -> 0 | O16: =ROUND(G16*N16*Q$5,2) -> 0
A17: 7 | J17: =ROUND(IF(E17<>0,IF((C17-B17)*24>12,IFERROR(12-E17,12),IFERROR((C17-B17)*24-E17,(C17-B17)*24)),0),4) -> 0 | K17: =ROUND(G17*J17*Q$3,2) -> 0 | L17: =IF(E17<>0,ROUND(IF(E17="x",IF((C17-B17)*24>12,IFERROR(((C17-B17)*24)-12,((C17-B17)*24)-12+J17),0),((C17-B17)*24)-J17),4),0) -> 0 | M17: =ROUND(G17*L17*Q$4,2) -> 0 | N17: =ROUND(IF(F17<>0,(C17-B17)*24,0),4) -> 0 | O17: =ROUND(G17*N17*Q$5,2) -> 0
A18: 8 | J18: =ROUND(IF(E18<>0,IF((C18-B18)*24>12,IFERROR(12-E18,12),IFERROR((C18-B18)*24-E18,(C18-B18)*24)),0),4) -> 0 | K18: =ROUND(G18*J18*Q$3,2) -> 0 | L18: =IF(E18<>0,ROUND(IF(E18="x",IF((C18-B18)*24>12,IFERROR(((C18-B18)*24)-12,((C18-B18)*24)-12+J18),0),((C18-B18)*24)-J18),4),0) -> 0 | M18: =ROUND(G18*L18*Q$4,2) -> 0 | N18: =ROUND(IF(F18<>0,(C18-B18)*24,0),4) -> 0 | O18: =ROUND(G18*N18*Q$5,2) -> 0
A19: 9 | J19: =ROUND(IF(E19<>0,IF((C19-B19)*24>12,IFERROR(12-E19,12),IFERROR((C19-B19)*24-E19,(C19-B19)*24)),0),4) -> 0 | K19: =ROUND(G19*J19*Q$3,2) -> 0 | L19: =IF(E19<>0,ROUND(IF(E19="x",IF((C19-B19)*24>12,IFERROR(((C19-B19)*24)-12,((C19-B19)*24)-12+J19),0),((C19-B19)*24)-J19),4),0) -> 0 | M19: =ROUND(G19*L19*Q$4,2) -> 0 | N19: =ROUND(IF(F19<>0,(C19-B19)*24,0),4) -> 0 | O19: =ROUND(G19*N19*Q$5,2) -> 0
A20: 10 | J20: =ROUND(IF(E20<>0,IF((C20-B20)*24>12,IFERROR(12-E20,12),IFERROR((C20-B20)*24-E20,(C20-B20)*24)),0),4) -> 0 | K20: =ROUND(G20*J20*Q$3,2) -> 0 | L20: =IF(E20<>0,ROUND(IF(E20="x",IF((C20-B20)*24>12,IFERROR(((C20-B20)*24)-12,((C20-B20)*24)-12+J20),0),((C20-B20)*24)-J20),4),0) -> 0 | M20: =ROUND(G20*L20*Q$4,2) -> 0 | N20: =ROUND(IF(F20<>0,(C20-B20)*24,0),4) -> 0 | O20: =ROUND(G20*N20*Q$5,2) -> 0
A21: 11 | J21: =ROUND(IF(E21<>0,IF((C21-B21)*24>12,IFERROR(12-E21,12),IFERROR((C21-B21)*24-E21,(C21-B21)*24)),0),4) -> 0 | K21: =ROUND(G21*J21*Q$3,2) -> 0 | L21: =IF(E21<>0,ROUND(IF(E21="x",IF((C21-B21)*24>12,IFERROR(((C21-B21)*24)-12,((C21-B21)*24)-12+J21),0),((C21-B21)*24)-J21),4),0) -> 0 | M21: =ROUND(G21*L21*Q$4,2) -> 0 | N21: =ROUND(IF(F21<>0,(C21-B21)*24,0),4) -> 0 | O21: =ROUND(G21*N21*Q$5,2) -> 0
A22: 12 | J22: =ROUND(IF(E22<>0,IF((C22-B22)*24>12,IFERROR(12-E22,12),IFERROR((C22-B22)*24-E22,(C22-B22)*24)),0),4) -> 0 | K22: =ROUND(G22*J22*Q$3,2) -> 0 | L22: =IF(E22<>0,ROUND(IF(E22="x",IF((C22-B22)*24>12,IFERROR(((C22-B22)*24)-12,((C22-B22)*24)-12+J22),0),((C22-B22)*24)-J22),4),0) -> 0 | M22: =ROUND(G22*L22*Q$4,2) -> 0 | N22: =ROUND(IF(F22<>0,(C22-B22)*24,0),4) -> 0 | O22: =ROUND(G22*N22*Q$5,2) -> 0
... A60: 50 | J60: =ROUND(IF(E60<>0,IF((C60-B60)*24>12,IFERROR(12-E60,12),IFERROR((C60-B60)*24-E60,(C60-B60)*24)),0),4) -> 0 | K60: =ROUND(G60*J60*Q$3,2) -> 0 | L60: =IF(E60<>0,ROUND(IF(E60="x",IF((C60-B60)*24>12,IFERROR(((C60-B60)*24)-12,((C60-B60)*24)-12+J60),0),((C60-B60)*24)-J60),4),0) -> 0 | M60: =ROUND(G60*L60*Q$4,2) -> 0 | N60: =ROUND(IF(F60<>0,(C60-B60)*24,0),4) -> 0 | O60: =ROUND(G60*N60*Q$5,2) -> 0

Sheet Zgierz
A1: Załącznik nr 1 | I1: Zestawienie: Pozostałe lokalizacje
A3: Lokalizacja: | C3: Zgierz | H3: Wykaz za okres: | J3: =Podsumowanie!I2 -> Grudzień | L3: =Podsumowanie!J2 -> 2025 | P3: Stawki: | Q3: 4.48 | R3: Dostęp do terminali towarowych do 12 h (Dotyczy lokomotywa; wagon/godzinę)
A4: Przewoźnik: | C4: =Podsumowanie!C1 -> 0 | Q4: 13.43 | R4: Dostęp do terminali towarowych powyżej 12 h (Dotyczy lokomotywa; wagon/godzinę)
A5: Kod punktu: | C5: S-017 | Q5: 5.2 | R5: Postój do 12 h i powyżej 12 h (dotyczy lokomotywa/wagon/godzina)
A6: Umowa: | C6: =Podsumowanie!C2 -> 0
E7: ZAZNACZYĆ | I7: Kod usługi: | J7: 018 | L7: 019 | N7: 020
A8: LP | B8: Data i godzina podstawienia/ zajęcia toru (rr-mm-dd gg:mm) | C8: Data i godzina zabrania/ zwolnienia toru (rr-mm-dd gg:mm) | D8: Nr pociągu | E8: Dostęp do terminali | F8: Postój | G8: Ilość lokomotyw / wagonów (szt) | H8: Tor (nr) | I8: Inne | J8: Dostęp do terminali towarowych do 12 h (Dot. lokomotywa; wagon/godzinę) | L8: Dostęp do terminali towarowych powyżej 12 h (Dot. lokomotywa; wagon/godzinę) | N8: Postój do 12 h i powyżej 12 h (dot. lokomotywa; wagon / godzina)
J9: Ilość godz. | K9: Razem | L9: Ilość godz. | M9: Razem | N9: Ilość godz. | O9: Razem
G10: =SUM(G11:G1048576) -> 0 | J10: =SUM(J11:J66) -> 0 | K10: =SUM(K11:K66) -> 0 | L10: =SUM(L11:L66) -> 0 | M10: =SUM(M11:M66) -> 0 | N10: =SUM(N11:N66) -> 0 | O10: =SUM(O11:O66) -> 0
A11: 1 | J11: =ROUND(IF(E11<>0,IF((C11-B11)*24>12,IFERROR(12-E11,12),IFERROR((C11-B11)*24-E11,(C11-B11)*24)),0),4) -> 0 | K11: =ROUND(G11*J11*Q$3,2) -> 0 | L11: =IF(E11<>0,ROUND(IF(E11="x",IF((C11-B11)*24>12,IFERROR(((C11-B11)*24)-12,((C11-B11)*24)-12+J11),0),((C11-B11)*24)-J11),4),0) -> 0 | M11: =ROUND(G11*L11*Q$4,2) -> 0 | N11: =ROUND(IF(F11<>0,(C11-B11)*24,0),4) -> 0 | O11: =ROUND(G11*N11*Q$5,2) -> 0
A12: 2 | J12: =ROUND(IF(E12<>0,IF((C12-B12)*24>12,IFERROR(12-E12,12),IFERROR((C12-B12)*24-E12,(C12-B12)*24)),0),4) -> 0 | K12: =ROUND(G12*J12*Q$3,2) -> 0 | L12: =IF(E12<>0,ROUND(IF(E12="x",IF((C12-B12)*24>12,IFERROR(((C12-B12)*24)-12,((C12-B12)*24)-12+J12),0),((C12-B12)*24)-J12),4),0) -> 0 | M12: =ROUND(G12*L12*Q$4,2) -> 0 | N12: =ROUND(IF(F12<>0,(C12-B12)*24,0),4) -> 0 | O12: =ROUND(G12*N12*Q$5,2) -> 0
A13: 3 | J13: =ROUND(IF(E13<>0,IF((C13-B13)*24>12,IFERROR(12-E13,12),IFERROR((C13-B13)*24-E13,(C13-B13)*24)),0),4) -> 0 | K13: =ROUND(G13*J13*Q$3,2) -> 0 | L13: =IF(E13<>0,ROUND(IF(E13="x",IF((C13-B13)*24>12,IFERROR(((C13-B13)*24)-12,((C13-B13)*24)-12+J13),0),((C13-B13)*24)-J13),4),0) -> 0 | M13: =ROUND(G13*L13*Q$4,2) -> 0 | N13: =ROUND(IF(F13<>0,(C13-B13)*24,0),4) -> 0 | O13: =ROUND(G13*N13*Q$5,2) -> 0
A14: 4 | J14: =ROUND(IF(E14<>0,IF((C14-B14)*24>12,IFERROR(12-E14,12),IFERROR((C14-B14)*24-E14,(C14-B14)*24)),0),4) -> 0 | K14: =ROUND(G14*J14*Q$3,2) -> 0 | L14: =IF(E14<>0,ROUND(IF(E14="x",IF((C14-B14)*24>12,IFERROR(((C14-B14)*24)-12,((C14-B14)*24)-12+J14),0),((C14-B14)*24)-J14),4),0) -> 0 | M14: =ROUND(G14*L14*Q$4,2) -> 0 | N14: =ROUND(IF(F14<>0,(C14-B14)*24,0),4) -> 0 | O14: =ROUND(G14*N14*Q$5,2) -> 0
A15: 5 | J15: =ROUND(IF(E15<>0,IF((C15-B15)*24>12,IFERROR(12-E15,12),IFERROR((C15-B15)*24-E15,(C15-B15)*24)),0),4) -> 0 | K15: =ROUND(G15*J15*Q$3,2) -> 0 | L15: =IF(E15<>0,ROUND(IF(E15="x",IF((C15-B15)*24>12,IFERROR(((C15-B15)*24)-12,((C15-B15)*24)-12+J15),0),((C15-B15)*24)-J15),4),0) -> 0 | M15: =ROUND(G15*L15*Q$4,2) -> 0 | N15: =ROUND(IF(F15<>0,(C15-B15)*24,0),4) -> 0 | O15: =ROUND(G15*N15*Q$5,2) -> 0
A16: 6 | J16: =ROUND(IF(E16<>0,IF((C16-B16)*24>12,IFERROR(12-E16,12),IFERROR((C16-B16)*24-E16,(C16-B16)*24)),0),4) -> 0 | K16: =ROUND(G16*J16*Q$3,2) -> 0 | L16: =IF(E16<>0,ROUND(IF(E16="x",IF((C16-B16)*24>12,IFERROR(((C16-B16)*24)-12,((C16-B16)*24)-12+J16),0),((C16-B16)*24)-J16),4),0) -> 0 | M16: =ROUND(G16*L16*Q$4,2) -> 0 | N16: =ROUND(IF(F16<>0,(C16-B16)*24,0),4) -> 0 | O16: =ROUND(G16*N16*Q$5,2) -> 0
A17: 7 | J17: =ROUND(IF(E17<>0,IF((C17-B17)*24>12,IFERROR(12-E17,12),IFERROR((C17-B17)*24-E17,(C17-B17)*24)),0),4) -> 0 | K17: =ROUND(G17*J17*Q$3,2) -> 0 | L17: =IF(E17<>0,ROUND(IF(E17="x",IF((C17-B17)*24>12,IFERROR(((C17-B17)*24)-12,((C17-B17)*24)-12+J17),0),((C17-B17)*24)-J17),4),0) -> 0 | M17: =ROUND(G17*L17*Q$4,2) -> 0 | N17: =ROUND(IF(F17<>0,(C17-B17)*24,0),4) -> 0 | O17: =ROUND(G17*N17*Q$5,2) -> 0
A18: 8 | J18: =ROUND(IF(E18<>0,IF((C18-B18)*24>12,IFERROR(12-E18,12),IFERROR((C18-B18)*24-E18,(C18-B18)*24)),0),4) -> 0 | K18: =ROUND(G18*J18*Q$3,2) -> 0 | L18: =IF(E18<>0,ROUND(IF(E18="x",IF((C18-B18)*24>12,IFERROR(((C18-B18)*24)-12,((C18-B18)*24)-12+J18),0),((C18-B18)*24)-J18),4),0) -> 0 | M18: =ROUND(G18*L18*Q$4,2) -> 0 | N18: =ROUND(IF(F18<>0,(C18-B18)*24,0),4) -> 0 | O18: =ROUND(G18*N18*Q$5,2) -> 0
A19: 9 | J19: =ROUND(IF(E19<>0,IF((C19-B19)*24>12,IFERROR(12-E19,12),IFERROR((C19-B19)*24-E19,(C19-B19)*24)),0),4) -> 0 | K19: =ROUND(G19*J19*Q$3,2) -> 0 | L19: =IF(E19<>0,ROUND(IF(E19="x",IF((C19-B19)*24>12,IFERROR(((C19-B19)*24)-12,((C19-B19)*24)-12+J19),0),((C19-B19)*24)-J19),4),0) -> 0 | M19: =ROUND(G19*L19*Q$4,2) -> 0 | N19: =ROUND(IF(F19<>0,(C19-B19)*24,0),4) -> 0 | O19: =ROUND(G19*N19*Q$5,2) -> 0
A20: 10 | J20: =ROUND(IF(E20<>0,IF((C20-B20)*24>12,IFERROR(12-E20,12),IFERROR((C20-B20)*24-E20,(C20-B20)*24)),0),4) -> 0 | K20: =ROUND(G20*J20*Q$3,2) -> 0 | L20: =IF(E20<>0,ROUND(IF(E20="x",IF((C20-B20)*24>12,IFERROR(((C20-B20)*24)-12,((C20-B20)*24)-12+J20),0),((C20-B20)*24)-J20),4),0) -> 0 | M20: =ROUND(G20*L20*Q$4,2) -> 0 | N20: =ROUND(IF(F20<>0,(C20-B20)*24,0),4) -> 0 | O20: =ROUND(G20*N20*Q$5,2) -> 0
A21: 11 | J21: =ROUND(IF(E21<>0,IF((C21-B21)*24>12,IFERROR(12-E21,12),IFERROR((C21-B21)*24-E21,(C21-B21)*24)),0),4) -> 0 | K21: =ROUND(G21*J21*Q$3,2) -> 0 | L21: =IF(E21<>0,ROUND(IF(E21="x",IF((C21-B21)*24>12,IFERROR(((C21-B21)*24)-12,((C21-B21)*24)-12+J21),0),((C21-B21)*24)-J21),4),0) -> 0 | M21: =ROUND(G21*L21*Q$4,2) -> 0 | N21: =ROUND(IF(F21<>0,(C21-B21)*24,0),4) -> 0 | O21: =ROUND(G21*N21*Q$5,2) -> 0
A22: 12 | J22: =ROUND(IF(E22<>0,IF((C22-B22)*24>12,IFERROR(12-E22,12),IFERROR((C22-B22)*24-E22,(C22-B22)*24)),0),4) -> 0 | K22: =ROUND(G22*J22*Q$3,2) -> 0 | L22: =IF(E22<>0,ROUND(IF(E22="x",IF((C22-B22)*24>12,IFERROR(((C22-B22)*24)-12,((C22-B22)*24)-12+J22),0),((C22-B22)*24)-J22),4),0) -> 0 | M22: =ROUND(G22*L22*Q$4,2) -> 0 | N22: =ROUND(IF(F22<>0,(C22-B22)*24,0),4) -> 0 | O22: =ROUND(G22*N22*Q$5,2) -> 0
... A60: 50 | J60: =ROUND(IF(E60<>0,IF((C60-B60)*24>12,IFERROR(12-E60,12),IFERROR((C60-B60)*24-E60,(C60-B60)*24)),0),4) -> 0 | K60: =ROUND(G60*J60*Q$3,2) -> 0 | L60: =IF(E60<>0,ROUND(IF(E60="x",IF((C60-B60)*24>12,IFERROR(((C60-B60)*24)-12,((C60-B60)*24)-12+J60),0),((C60-B60)*24)-J60),4),0) -> 0 | M60: =ROUND(G60*L60*Q$4,2) -> 0 | N60: =ROUND(IF(F60<>0,(C60-B60)*24,0),4) -> 0 | O60: =ROUND(G60*N60*Q$5,2) -> 0

Sheet Ciechanów
A1: Załącznik nr 1 | I1: Zestawienie: Pozostałe lokalizacje
A3: Lokalizacja: | C3: Ciechanów | H3: Wykaz za okres: | J3: =Podsumowanie!I2 -> Grudzień | L3: =Podsumowanie!J2 -> 2025 | P3: Stawki: | Q3: 4.48 | R3: Dostęp do terminali towarowych do 12 h (Dotyczy lokomotywa; wagon/godzinę)
A4: Przewoźnik: | C4: =Podsumowanie!C1 -> 0 | Q4: 13.43 | R4: Dostęp do terminali towarowych powyżej 12 h (Dotyczy lokomotywa; wagon/godzinę)
A5: Kod punktu: | C5: S-018 | Q5: 5.2 | R5: Postój do 12 h i powyżej 12 h (dotyczy lokomotywa/wagon/godzina)
A6: Umowa: | C6: =Podsumowanie!C2 -> 0
E7: ZAZNACZYĆ | I7: Kod usługi: | J7: 018 | L7: 019 | N7: 020
A8: LP | B8: Data i godzina podstawienia/ zajęcia toru (rr-mm-dd gg:mm) | C8: Data i godzina zabrania/ zwolnienia toru (rr-mm-dd gg:mm) | D8: Nr pociągu | E8: Dostęp do terminali | F8: Postój | G8: Ilość lokomotyw / wagonów (szt) | H8: Tor (nr) | I8: Inne | J8: Dostęp do terminali towarowych do 12 h (Dot. lokomotywa; wagon/godzinę) | L8: Dostęp do terminali towarowych powyżej 12 h (Dot. lokomotywa; wagon/godzinę) | N8: Postój do 12 h i powyżej 12 h (dot. lokomotywa; wagon / godzina)
J9: Ilość godz. | K9: Razem | L9: Ilość godz. | M9: Razem | N9: Ilość godz. | O9: Razem
G10: =SUM(G11:G1048576) -> 0 | J10: =SUM(J11:J66) -> 0 | K10: =SUM(K11:K66) -> 0 | L10: =SUM(L11:L66) -> 0 | M10: =SUM(M11:M66) -> 0 | N10: =SUM(N11:N66) -> 0 | O10: =SUM(O11:O66) -> 0
A11: 1 | J11: =ROUND(IF(E11<>0,IF((C11-B11)*24>12,IFERROR(12-E11,12),IFERROR((C11-B11)*24-E11,(C11-B11)*24)),0),4) -> 0 | K11: =ROUND(G11*J11*Q$3,2) -> 0 | L11: =IF(E11<>0,ROUND(IF(E11="x",IF((C11-B11)*24>12,IFERROR(((C11-B11)*24)-12,((C11-B11)*24)-12+J11),0),((C11-B11)*24)-J11),4),0) -> 0 | M11: =ROUND(G11*L11*Q$4,2) -> 0 | N11: =ROUND(IF(F11<>0,(C11-B11)*24,0),4) -> 0 | O11: =ROUND(G11*N11*Q$5,2) -> 0
A12: 2 | J12: =ROUND(IF(E12<>0,IF((C12-B12)*24>12,IFERROR(12-E12,12),IFERROR((C12-B12)*24-E12,(C12-B12)*24)),0),4) -> 0 | K12: =ROUND(G12*J12*Q$3,2) -> 0 | L12: =IF(E12<>0,ROUND(IF(E12="x",IF((C12-B12)*24>12,IFERROR(((C12-B12)*24)-12,((C12-B12)*24)-12+J12),0),((C12-B12)*24)-J12),4),0) -> 0 | M12: =ROUND(G12*L12*Q$4,2) -> 0 | N12: =ROUND(IF(F12<>0,(C12-B12)*24,0),4) -> 0 | O12: =ROUND(G12*N12*Q$5,2) -> 0
A13: 3 | J13: =ROUND(IF(E13<>0,IF((C13-B13)*24>12,IFERROR(12-E13,12),IFERROR((C13-B13)*24-E13,(C13-B13)*24)),0),4) -> 0 | K13: =ROUND(G13*J13*Q$3,2) -> 0 | L13: =IF(E13<>0,ROUND(IF(E13="x",IF((C13-B13)*24>12,IFERROR(((C13-B13)*24)-12,((C13-B13)*24)-12+J13),0),((C13-B13)*24)-J13),4),0) -> 0 | M13: =ROUND(G13*L13*Q$4,2) -> 0 | N13: =ROUND(IF(F13<>0,(C13-B13)*24,0),4) -> 0 | O13: =ROUND(G13*N13*Q$5,2) -> 0
A14: 4 | J14: =ROUND(IF(E14<>0,IF((C14-B14)*24>12,IFERROR(12-E14,12),IFERROR((C14-B14)*24-E14,(C14-B14)*24)),0),4) -> 0 | K14: =ROUND(G14*J14*Q$3,2) -> 0 | L14: =IF(E14<>0,ROUND(IF(E14="x",IF((C14-B14)*24>12,IFERROR(((C14-B14)*24)-12,((C14-B14)*24)-12+J14),0),((C14-B14)*24)-J14),4),0) -> 0 | M14: =ROUND(G14*L14*Q$4,2) -> 0 | N14: =ROUND(IF(F14<>0,(C14-B14)*24,0),4) -> 0 | O14: =ROUND(G14*N14*Q$5,2) -> 0
A15: 5 | J15: =ROUND(IF(E15<>0,IF((C15-B15)*24>12,IFERROR(12-E15,12),IFERROR((C15-B15)*24-E15,(C15-B15)*24)),0),4) -> 0 | K15: =ROUND(G15*J15*Q$3,2) -> 0 | L15: =IF(E15<>0,ROUND(IF(E15="x",IF((C15-B15)*24>12,IFERROR(((C15-B15)*24)-12,((C15-B15)*24)-12+J15),0),((C15-B15)*24)-J15),4),0) -> 0 | M15: =ROUND(G15*L15*Q$4,2) -> 0 | N15: =ROUND(IF(F15<>0,(C15-B15)*24,0),4) -> 0 | O15: =ROUND(G15*N15*Q$5,2) -> 0
A16: 6 | J16: =ROUND(IF(E16<>0,IF((C16-B16)*24>12,IFERROR(12-E16,12),IFERROR((C16-B16)*24-E16,(C16-B16)*24)),0),4) -> 0 | K16: =ROUND(G16*J16*Q$3,2) -> 0 | L16: =IF(E16<>0,ROUND(IF(E16="x",IF((C16-B16)*24>12,IFERROR(((C16-B16)*24)-12,((C16-B16)*24)-12+J16),0),((C16-B16)*24)-J16),4),0) -> 0 | M16: =ROUND(G16*L16*Q$4,2) -> 0 | N16: =ROUND(IF(F16<>0,(C16-B16)*24,0),4) -> 0 | O16: =ROUND(G16*N16*Q$5,2) -> 0
A17: 7 | J17: =ROUND(IF(E17<>0,IF((C17-B17)*24>12,IFERROR(12-E17,12),IFERROR((C17-B17)*24-E17,(C17-B17)*24)),0),4) -> 0 | K17: =ROUND(G17*J17*Q$3,2) -> 0 | L17: =IF(E17<>0,ROUND(IF(E17="x",IF((C17-B17)*24>12,IFERROR(((C17-B17)*24)-12,((C17-B17)*24)-12+J17),0),((C17-B17)*24)-J17),4),0) -> 0 | M17: =ROUND(G17*L17*Q$4,2) -> 0 | N17: =ROUND(IF(F17<>0,(C17-B17)*24,0),4) -> 0 | O17: =ROUND(G17*N17*Q$5,2) -> 0
A18: 8 | J18: =ROUND(IF(E18<>0,IF((C18-B18)*24>12,IFERROR(12-E18,12),IFERROR((C18-B18)*24-E18,(C18-B18)*24)),0),4) -> 0 | K18: =ROUND(G18*J18*Q$3,2) -> 0 | L18: =IF(E18<>0,ROUND(IF(E18="x",IF((C18-B18)*24>12,IFERROR(((C18-B18)*24)-12,((C18-B18)*24)-12+J18),0),((C18-B18)*24)-J18),4),0) -> 0 | M18: =ROUND(G18*L18*Q$4,2) -> 0 | N18: =ROUND(IF(F18<>0,(C18-B18)*24,0),4) -> 0 | O18: =ROUND(G18*N18*Q$5,2) -> 0
A19: 9 | J19: =ROUND(IF(E19<>0,IF((C19-B19)*24>12,IFERROR(12-E19,12),IFERROR((C19-B19)*24-E19,(C19-B19)*24)),0),4) -> 0 | K19: =ROUND(G19*J19*Q$3,2) -> 0 | L19: =IF(E19<>0,ROUND(IF(E19="x",IF((C19-B19)*24>12,IFERROR(((C19-B19)*24)-12,((C19-B19)*24)-12+J19),0),((C19-B19)*24)-J19),4),0) -> 0 | M19: =ROUND(G19*L19*Q$4,2) -> 0 | N19: =ROUND(IF(F19<>0,(C19-B19)*24,0),4) -> 0 | O19: =ROUND(G19*N19*Q$5,2) -> 0
A20: 10 | J20: =ROUND(IF(E20<>0,IF((C20-B20)*24>12,IFERROR(12-E20,12),IFERROR((C20-B20)*24-E20,(C20-B20)*24)),0),4) -> 0 | K20: =ROUND(G20*J20*Q$3,2) -> 0 | L20: =IF(E20<>0,ROUND(IF(E20="x",IF((C20-B20)*24>12,IFERROR(((C20-B20)*24)-12,((C20-B20)*24)-12+J20),0),((C20-B20)*24)-J20),4),0) -> 0 | M20: =ROUND(G20*L20*Q$4,2) -> 0 | N20: =ROUND(IF(F20<>0,(C20-B20)*24,0),4) -> 0 | O20: =ROUND(G20*N20*Q$5,2) -> 0
A21: 11 | J21: =ROUND(IF(E21<>0,IF((C21-B21)*24>12,IFERROR(12-E21,12),IFERROR((C21-B21)*24-E21,(C21-B21)*24)),0),4) -> 0 | K21: =ROUND(G21*J21*Q$3,2) -> 0 | L21: =IF(E21<>0,ROUND(IF(E21="x",IF((C21-B21)*24>12,IFERROR(((C21-B21)*24)-12,((C21-B21)*24)-12+J21),0),((C21-B21)*24)-J21),4),0) -> 0 | M21: =ROUND(G21*L21*Q$4,2) -> 0 | N21: =ROUND(IF(F21<>0,(C21-B21)*24,0),4) -> 0 | O21: =ROUND(G21*N21*Q$5,2) -> 0
A22: 12 | J22: =ROUND(IF(E22<>0,IF((C22-B22)*24>12,IFERROR(12-E22,12),IFERROR((C22-B22)*24-E22,(C22-B22)*24)),0),4) -> 0 | K22: =ROUND(G22*J22*Q$3,2) -> 0 | L22: =IF(E22<>0,ROUND(IF(E22="x",IF((C22-B22)*24>12,IFERROR(((C22-B22)*24)-12,((C22-B22)*24)-12+J22),0),((C22-B22)*24)-J22),4),0) -> 0 | M22: =ROUND(G22*L22*Q$4,2) -> 0 | N22: =ROUND(IF(F22<>0,(C22-B22)*24,0),4) -> 0 | O22: =ROUND(G22*N22*Q$5,2) -> 0
... A60: 50 | J60: =ROUND(IF(E60<>0,IF((C60-B60)*24>12,IFERROR(12-E60,12),IFERROR((C60-B60)*24-E60,(C60-B60)*24)),0),4) -> 0 | K60: =ROUND(G60*J60*Q$3,2) -> 0 | L60: =IF(E60<>0,ROUND(IF(E60="x",IF((C60-B60)*24>12,IFERROR(((C60-B60)*24)-12,((C60-B60)*24)-12+J60),0),((C60-B60)*24)-J60),4),0) -> 0 | M60: =ROUND(G60*L60*Q$4,2) -> 0 | N60: =ROUND(IF(F60<>0,(C60-B60)*24,0),4) -> 0 | O60: =ROUND(G60*N60*Q$5,2) -> 0

Sheet Olecko
A1: Załącznik nr 1 | I1: Zestawienie: Pozostałe lokalizacje
A3: Lokalizacja: | C3: Olecko | H3: Wykaz za okres: | J3: =Podsumowanie!I2 -> Grudzień | L3: =Podsumowanie!J2 -> 2025 | P3: Stawki: | Q3: 4.48 | R3: Dostęp do terminali towarowych do 12 h (Dotyczy lokomotywa; wagon/godzinę)
A4: Przewoźnik: | C4: =Podsumowanie!C1 -> 0 | Q4: 13.43 | R4: Dostęp do terminali towarowych powyżej 12 h (Dotyczy lokomotywa; wagon/godzinę)
A5: Kod punktu: | C5: S-022 | Q5: 5.2 | R5: Postój do 12 h i powyżej 12 h (dotyczy lokomotywa/wagon/godzina)
A6: Umowa: | C6: =Podsumowanie!C2 -> 0
E7: ZAZNACZYĆ | I7: Kod usługi: | J7: 018 | L7: 019 | N7: 020
A8: LP | B8: Data i godzina podstawienia/ zajęcia toru (rr-mm-dd gg:mm) | C8: Data i godzina zabrania/ zwolnienia toru (rr-mm-dd gg:mm) | D8: Nr pociągu | E8: Dostęp do terminali | F8: Postój | G8: Ilość lokomotyw / wagonów (szt) | H8: Tor (nr) | I8: Inne | J8: Dostęp do terminali towarowych do 12 h (Dot. lokomotywa; wagon/godzinę) | L8: Dostęp do terminali towarowych powyżej 12 h (Dot. lokomotywa; wagon/godzinę) | N8: Postój do 12 h i powyżej 12 h (dot. lokomotywa; wagon / godzina)
J9: Ilość godz. | K9: Razem | L9: Ilość godz. | M9: Razem | N9: Ilość godz. | O9: Razem
G10: =SUM(G11:G1048576) -> 0 | J10: =SUM(J11:J66) -> 0 | K10: =SUM(K11:K66) -> 0 | L10: =SUM(L11:L66) -> 0 | M10: =SUM(M11:M66) -> 0 | N10: =SUM(N11:N66) -> 0 | O10: =SUM(O11:O66) -> 0
A11: 1 | J11: =ROUND(IF(E11<>0,IF((C11-B11)*24>12,IFERROR(12-E11,12),IFERROR((C11-B11)*24-E11,(C11-B11)*24)),0),4) -> 0 | K11: =ROUND(G11*J11*Q$3,2) -> 0 | L11: =IF(E11<>0,ROUND(IF(E11="x",IF((C11-B11)*24>12,IFERROR(((C11-B11)*24)-12,((C11-B11)*24)-12+J11),0),((C11-B11)*24)-J11),4),0) -> 0 | M11: =ROUND(G11*L11*Q$4,2) -> 0 | N11: =ROUND(IF(F11<>0,(C11-B11)*24,0),4) -> 0 | O11: =ROUND(G11*N11*Q$5,2) -> 0
A12: 2 | J12: =ROUND(IF(E12<>0,IF((C12-B12)*24>12,IFERROR(12-E12,12),IFERROR((C12-B12)*24-E12,(C12-B12)*24)),0),4) -> 0 | K12: =ROUND(G12*J12*Q$3,2) -> 0 | L12: =IF(E12<>0,ROUND(IF(E12="x",IF((C12-B12)*24>12,IFERROR(((C12-B12)*24)-12,((C12-B12)*24)-12+J12),0),((C12-B12)*24)-J12),4),0) -> 0 | M12: =ROUND(G12*L12*Q$4,2) -> 0 | N12: =ROUND(IF(F12<>0,(C12-B12)*24,0),4) -> 0 | O12: =ROUND(G12*N12*Q$5,2) -> 0
A13: 3 | J13: =ROUND(IF(E13<>0,IF((C13-B13)*24>12,IFERROR(12-E13,12),IFERROR((C13-B13)*24-E13,(C13-B13)*24)),0),4) -> 0 | K13: =ROUND(G13*J13*Q$3,2) -> 0 | L13: =IF(E13<>0,ROUND(IF(E13="x",IF((C13-B13)*24>12,IFERROR(((C13-B13)*24)-12,((C13-B13)*24)-12+J13),0),((C13-B13)*24)-J13),4),0) -> 0 | M13: =ROUND(G13*L13*Q$4,2) -> 0 | N13: =ROUND(IF(F13<>0,(C13-B13)*24,0),4) -> 0 | O13: =ROUND(G13*N13*Q$5,2) -> 0
A14: 4 | J14: =ROUND(IF(E14<>0,IF((C14-B14)*24>12,IFERROR(12-E14,12),IFERROR((C14-B14)*24-E14,(C14-B14)*24)),0),4) -> 0 | K14: =ROUND(G14*J14*Q$3,2) -> 0 | L14: =IF(E14<>0,ROUND(IF(E14="x",IF((C14-B14)*24>12,IFERROR(((C14-B14)*24)-12,((C14-B14)*24)-12+J14),0),((C14-B14)*24)-J14),4),0) -> 0 | M14: =ROUND(G14*L14*Q$4,2) -> 0 | N14: =ROUND(IF(F14<>0,(C14-B14)*24,0),4) -> 0 | O14: =ROUND(G14*N14*Q$5,2) -> 0
A15: 5 | J15: =ROUND(IF(E15<>0,IF((C15-B15)*24>12,IFERROR(12-E15,12),IFERROR((C15-B15)*24-E15,(C15-B15)*24)),0),4) -> 0 | K15: =ROUND(G15*J15*Q$3,2) -> 0 | L15: =IF(E15<>0,ROUND(IF(E15="x",IF((C15-B15)*24>12,IFERROR(((C15-B15)*24)-12,((C15-B15)*24)-12+J15),0),((C15-B15)*24)-J15),4),0) -> 0 | M15: =ROUND(G15*L15*Q$4,2) -> 0 | N15: =ROUND(IF(F15<>0,(C15-B15)*24,0),4) -> 0 | O15: =ROUND(G15*N15*Q$5,2) -> 0
A16: 6 | J16: =ROUND(IF(E16<>0,IF((C16-B16)*24>12,IFERROR(12-E16,12),IFERROR((C16-B16)*24-E16,(C16-B16)*24)),0),4) -> 0 | K16: =ROUND(G16*J16*Q$3,2) -> 0 | L16: =IF(E16<>0,ROUND(IF(E16="x",IF((C16-B16)*24>12,IFERROR(((C16-B16)*24)-12,((C16-B16)*24)-12+J16),0),((C16-B16)*24)-J16),4),0) -> 0 | M16: =ROUND(G16*L16*Q$4,2) -> 0 | N16: =ROUND(IF(F16<>0,(C16-B16)*24,0),4) -> 0 | O16: =ROUND(G16*N16*Q$5,2) -> 0
A17: 7 | J17: =ROUND(IF(E17<>0,IF((C17-B17)*24>12,IFERROR(12-E17,12),IFERROR((C17-B17)*24-E17,(C17-B17)*24)),0),4) -> 0 | K17: =ROUND(G17*J17*Q$3,2) -> 0 | L17: =IF(E17<>0,ROUND(IF(E17="x",IF((C17-B17)*24>12,IFERROR(((C17-B17)*24)-12,((C17-B17)*24)-12+J17),0),((C17-B17)*24)-J17),4),0) -> 0 | M17: =ROUND(G17*L17*Q$4,2) -> 0 | N17: =ROUND(IF(F17<>0,(C17-B17)*24,0),4) -> 0 | O17: =ROUND(G17*N17*Q$5,2) -> 0
A18: 8 | J18: =ROUND(IF(E18<>0,IF((C18-B18)*24>12,IFERROR(12-E18,12),IFERROR((C18-B18)*24-E18,(C18-B18)*24)),0),4) -> 0 | K18: =ROUND(G18*J18*Q$3,2) -> 0 | L18: =IF(E18<>0,ROUND(IF(E18="x",IF((C18-B18)*24>12,IFERROR(((C18-B18)*24)-12,((C18-B18)*24)-12+J18),0),((C18-B18)*24)-J18),4),0) -> 0 | M18: =ROUND(G18*L18*Q$4,2) -> 0 | N18: =ROUND(IF(F18<>0,(C18-B18)*24,0),4) -> 0 | O18: =ROUND(G18*N18*Q$5,2) -> 0
A19: 9 | J19: =ROUND(IF(E19<>0,IF((C19-B19)*24>12,IFERROR(12-E19,12),IFERROR((C19-B19)*24-E19,(C19-B19)*24)),0),4) -> 0 | K19: =ROUND(G19*J19*Q$3,2) -> 0 | L19: =IF(E19<>0,ROUND(IF(E19="x",IF((C19-B19)*24>12,IFERROR(((C19-B19)*24)-12,((C19-B19)*24)-12+J19),0),((C19-B19)*24)-J19),4),0) -> 0 | M19: =ROUND(G19*L19*Q$4,2) -> 0 | N19: =ROUND(IF(F19<>0,(C19-B19)*24,0),4) -> 0 | O19: =ROUND(G19*N19*Q$5,2) -> 0
A20: 10 | J20: =ROUND(IF(E20<>0,IF((C20-B20)*24>12,IFERROR(12-E20,12),IFERROR((C20-B20)*24-E20,(C20-B20)*24)),0),4) -> 0 | K20: =ROUND(G20*J20*Q$3,2) -> 0 | L20: =IF(E20<>0,ROUND(IF(E20="x",IF((C20-B20)*24>12,IFERROR(((C20-B20)*24)-12,((C20-B20)*24)-12+J20),0),((C20-B20)*24)-J20),4),0) -> 0 | M20: =ROUND(G20*L20*Q$4,2) -> 0 | N20: =ROUND(IF(F20<>0,(C20-B20)*24,0),4) -> 0 | O20: =ROUND(G20*N20*Q$5,2) -> 0
A21: 11 | J21: =ROUND(IF(E21<>0,IF((C21-B21)*24>12,IFERROR(12-E21,12),IFERROR((C21-B21)*24-E21,(C21-B21)*24)),0),4) -> 0 | K21: =ROUND(G21*J21*Q$3,2) -> 0 | L21: =IF(E21<>0,ROUND(IF(E21="x",IF((C21-B21)*24>12,IFERROR(((C21-B21)*24)-12,((C21-B21)*24)-12+J21),0),((C21-B21)*24)-J21),4),0) -> 0 | M21: =ROUND(G21*L21*Q$4,2) -> 0 | N21: =ROUND(IF(F21<>0,(C21-B21)*24,0),4) -> 0 | O21: =ROUND(G21*N21*Q$5,2) -> 0
A22: 12 | J22: =ROUND(IF(E22<>0,IF((C22-B22)*24>12,IFERROR(12-E22,12),IFERROR((C22-B22)*24-E22,(C22-B22)*24)),0),4) -> 0 | K22: =ROUND(G22*J22*Q$3,2) -> 0 | L22: =IF(E22<>0,ROUND(IF(E22="x",IF((C22-B22)*24>12,IFERROR(((C22-B22)*24)-12,((C22-B22)*24)-12+J22),0),((C22-B22)*24)-J22),4),0) -> 0 | M22: =ROUND(G22*L22*Q$4,2) -> 0 | N22: =ROUND(IF(F22<>0,(C22-B22)*24,0),4) -> 0 | O22: =ROUND(G22*N22*Q$5,2) -> 0
... A60: 50 | J60: =ROUND(IF(E60<>0,IF((C60-B60)*24>12,IFERROR(12-E60,12),IFERROR((C60-B60)*24-E60,(C60-B60)*24)),0),4) -> 0 | K60: =ROUND(G60*J60*Q$3,2) -> 0 | L60: =IF(E60<>0,ROUND(IF(E60="x",IF((C60-B60)*24>12,IFERROR(((C60-B60)*24)-12,((C60-B60)*24)-12+J60),0),((C60-B60)*24)-J60),4),0) -> 0 | M60: =ROUND(G60*L60*Q$4,2) -> 0 | N60: =ROUND(IF(F60<>0,(C60-B60)*24,0),4) -> 0 | O60: =ROUND(G60*N60*Q$5,2) -> 0

Sheet Sokółka
A1: Załącznik nr 1 | I1: Zestawienie: Pozostałe lokalizacje
A3: Lokalizacja: | C3: Sokółka | H3: Wykaz za okres: | J3: =Podsumowanie!I2 -> Grudzień | L3: =Podsumowanie!J2 -> 2025 | P3: Stawki: | Q3: 4.48 | R3: Dostęp do terminali towarowych do 12 h (Dotyczy lokomotywa; wagon/godzinę)
A4: Przewoźnik: | C4: =Podsumowanie!C1 -> 0 | Q4: 13.43 | R4: Dostęp do terminali towarowych powyżej 12 h (Dotyczy lokomotywa; wagon/godzinę)
A5: Kod punktu: | C5: S-023 | Q5: 5.2 | R5: Postój do 12 h i powyżej 12 h (dotyczy lokomotywa/wagon/godzina)
A6: Umowa: | C6: =Podsumowanie!C2 -> 0
E7: ZAZNACZYĆ | I7: Kod usługi: | J7: 018 | L7: 019 | N7: 020
A8: LP | B8: Data i godzina podstawienia/ zajęcia toru (rr-mm-dd gg:mm) | C8: Data i godzina zabrania/ zwolnienia toru (rr-mm-dd gg:mm) | D8: Nr pociągu | E8: Dostęp do terminali | F8: Postój | G8: Ilość lokomotyw / wagonów (szt) | H8: Tor (nr) | I8: Inne | J8: Dostęp do terminali towarowych do 12 h (Dot. lokomotywa; wagon/godzinę) | L8: Dostęp do terminali towarowych powyżej 12 h (Dot. lokomotywa; wagon/godzinę) | N8: Postój do 12 h i powyżej 12 h (dot. lokomotywa; wagon / godzina)
J9: Ilość godz. | K9: Razem | L9: Ilość godz. | M9: Razem | N9: Ilość godz. | O9: Razem
G10: =SUM(G11:G1048576) -> 0 | J10: =SUM(J11:J66) -> 0 | K10: =SUM(K11:K66) -> 0 | L10: =SUM(L11:L66) -> 0 | M10: =SUM(M11:M66) -> 0 | N10: =SUM(N11:N66) -> 0 | O10: =SUM(O11:O66) -> 0
A11: 1 | J11: =ROUND(IF(E11<>0,IF((C11-B11)*24>12,IFERROR(12-E11,12),IFERROR((C11-B11)*24-E11,(C11-B11)*24)),0),4) -> 0 | K11: =ROUND(G11*J11*Q$3,2) -> 0 | L11: =IF(E11<>0,ROUND(IF(E11="x",IF((C11-B11)*24>12,IFERROR(((C11-B11)*24)-12,((C11-B11)*24)-12+J11),0),((C11-B11)*24)-J11),4),0) -> 0 | M11: =ROUND(G11*L11*Q$4,2) -> 0 | N11: =ROUND(IF(F11<>0,(C11-B11)*24,0),4) -> 0 | O11: =ROUND(G11*N11*Q$5,2) -> 0
A12: 2 | J12: =ROUND(IF(E12<>0,IF((C12-B12)*24>12,IFERROR(12-E12,12),IFERROR((C12-B12)*24-E12,(C12-B12)*24)),0),4) -> 0 | K12: =ROUND(G12*J12*Q$3,2) -> 0 | L12: =IF(E12<>0,ROUND(IF(E12="x",IF((C12-B12)*24>12,IFERROR(((C12-B12)*24)-12,((C12-B12)*24)-12+J12),0),((C12-B12)*24)-J12),4),0) -> 0 | M12: =ROUND(G12*L12*Q$4,2) -> 0 | N12: =ROUND(IF(F12<>0,(C12-B12)*24,0),4) -> 0 | O12: =ROUND(G12*N12*Q$5,2) -> 0
A13: 3 | J13: =ROUND(IF(E13<>0,IF((C13-B13)*24>12,IFERROR(12-E13,12),IFERROR((C13-B13)*24-E13,(C13-B13)*24)),0),4) -> 0 | K13: =ROUND(G13*J13*Q$3,2) -> 0 | L13: =IF(E13<>0,ROUND(IF(E13="x",IF((C13-B13)*24>12,IFERROR(((C13-B13)*24)-12,((C13-B13)*24)-12+J13),0),((C13-B13)*24)-J13),4),0) -> 0 | M13: =ROUND(G13*L13*Q$4,2) -> 0 | N13: =ROUND(IF(F13<>0,(C13-B13)*24,0),4) -> 0 | O13: =ROUND(G13*N13*Q$5,2) -> 0
A14: 4 | J14: =ROUND(IF(E14<>0,IF((C14-B14)*24>12,IFERROR(12-E14,12),IFERROR((C14-B14)*24-E14,(C14-B14)*24)),0),4) -> 0 | K14: =ROUND(G14*J14*Q$3,2) -> 0 | L14: =IF(E14<>0,ROUND(IF(E14="x",IF((C14-B14)*24>12,IFERROR(((C14-B14)*24)-12,((C14-B14)*24)-12+J14),0),((C14-B14)*24)-J14),4),0) -> 0 | M14: =ROUND(G14*L14*Q$4,2) -> 0 | N14: =ROUND(IF(F14<>0,(C14-B14)*24,0),4) -> 0 | O14: =ROUND(G14*N14*Q$5,2) -> 0
A15: 5 | J15: =ROUND(IF(E15<>0,IF((C15-B15)*24>12,IFERROR(12-E15,12),IFERROR((C15-B15)*24-E15,(C15-B15)*24)),0),4) -> 0 | K15: =ROUND(G15*J15*Q$3,2) -> 0 | L15: =IF(E15<>0,ROUND(IF(E15="x",IF((C15-B15)*24>12,IFERROR(((C15-B15)*24)-12,((C15-B15)*24)-12+J15),0),((C15-B15)*24)-J15),4),0) -> 0 | M15: =ROUND(G15*L15*Q$4,2) -> 0 | N15: =ROUND(IF(F15<>0,(C15-B15)*24,0),4) -> 0 | O15: =ROUND(G15*N15*Q$5,2) -> 0
A16: 6 | J16: =ROUND(IF(E16<>0,IF((C16-B16)*24>12,IFERROR(12-E16,12),IFERROR((C16-B16)*24-E16,(C16-B16)*24)),0),4) -> 0 | K16: =ROUND(G16*J16*Q$3,2) -> 0 | L16: =IF(E16<>0,ROUND(IF(E16="x",IF((C16-B16)*24>12,IFERROR(((C16-B16)*24)-12,((C16-B16)*24)-12+J16),0),((C16-B16)*24)-J16),4),0) -> 0 | M16: =ROUND(G16*L16*Q$4,2) -> 0 | N16: =ROUND(IF(F16<>0,(C16-B16)*24,0),4) -> 0 | O16: =ROUND(G16*N16*Q$5,2) -> 0
A17: 7 | J17: =ROUND(IF(E17<>0,IF((C17-B17)*24>12,IFERROR(12-E17,12),IFERROR((C17-B17)*24-E17,(C17-B17)*24)),0),4) -> 0 | K17: =ROUND(G17*J17*Q$3,2) -> 0 | L17: =IF(E17<>0,ROUND(IF(E17="x",IF((C17-B17)*24>12,IFERROR(((C17-B17)*24)-12,((C17-B17)*24)-12+J17),0),((C17-B17)*24)-J17),4),0) -> 0 | M17: =ROUND(G17*L17*Q$4,2) -> 0 | N17: =ROUND(IF(F17<>0,(C17-B17)*24,0),4) -> 0 | O17: =ROUND(G17*N17*Q$5,2) -> 0
A18: 8 | J18: =ROUND(IF(E18<>0,IF((C18-B18)*24>12,IFERROR(12-E18,12),IFERROR((C18-B18)*24-E18,(C18-B18)*24)),0),4) -> 0 | K18: =ROUND(G18*J18*Q$3,2) -> 0 | L18: =IF(E18<>0,ROUND(IF(E18="x",IF((C18-B18)*24>12,IFERROR(((C18-B18)*24)-12,((C18-B18)*24)-12+J18),0),((C18-B18)*24)-J18),4),0) -> 0 | M18: =ROUND(G18*L18*Q$4,2) -> 0 | N18: =ROUND(IF(F18<>0,(C18-B18)*24,0),4) -> 0 | O18: =ROUND(G18*N18*Q$5,2) -> 0
A19: 9 | J19: =ROUND(IF(E19<>0,IF((C19-B19)*24>12,IFERROR(12-E19,12),IFERROR((C19-B19)*24-E19,(C19-B19)*24)),0),4) -> 0 | K19: =ROUND(G19*J19*Q$3,2) -> 0 | L19: =IF(E19<>0,ROUND(IF(E19="x",IF((C19-B19)*24>12,IFERROR(((C19-B19)*24)-12,((C19-B19)*24)-12+J19),0),((C19-B19)*24)-J19),4),0) -> 0 | M19: =ROUND(G19*L19*Q$4,2) -> 0 | N19: =ROUND(IF(F19<>0,(C19-B19)*24,0),4) -> 0 | O19: =ROUND(G19*N19*Q$5,2) -> 0
A20: 10 | J20: =ROUND(IF(E20<>0,IF((C20-B20)*24>12,IFERROR(12-E20,12),IFERROR((C20-B20)*24-E20,(C20-B20)*24)),0),4) -> 0 | K20: =ROUND(G20*J20*Q$3,2) -> 0 | L20: =IF(E20<>0,ROUND(IF(E20="x",IF((C20-B20)*24>12,IFERROR(((C20-B20)*24)-12,((C20-B20)*24)-12+J20),0),((C20-B20)*24)-J20),4),0) -> 0 | M20: =ROUND(G20*L20*Q$4,2) -> 0 | N20: =ROUND(IF(F20<>0,(C20-B20)*24,0),4) -> 0 | O20: =ROUND(G20*N20*Q$5,2) -> 0
A21: 11 | J21: =ROUND(IF(E21<>0,IF((C21-B21)*24>12,IFERROR(12-E21,12),IFERROR((C21-B21)*24-E21,(C21-B21)*24)),0),4) -> 0 | K21: =ROUND(G21*J21*Q$3,2) -> 0 | L21: =IF(E21<>0,ROUND(IF(E21="x",IF((C21-B21)*24>12,IFERROR(((C21-B21)*24)-12,((C21-B21)*24)-12+J21),0),((C21-B21)*24)-J21),4),0) -> 0 | M21: =ROUND(G21*L21*Q$4,2) -> 0 | N21: =ROUND(IF(F21<>0,(C21-B21)*24,0),4) -> 0 | O21: =ROUND(G21*N21*Q$5,2) -> 0
